BEGIN:VCALENDAR
VERSION:2.0
PRODID:-//Southern Prairie Library - ECPv6.15.14//NONSGML v1.0//EN
CALSCALE:GREGORIAN
METHOD:PUBLISH
X-WR-CALNAME:Southern Prairie Library
X-ORIGINAL-URL:https://spls.lib.ok.us
X-WR-CALDESC:Events for Southern Prairie Library
REFRESH-INTERVAL;VALUE=DURATION:PT1H
X-Robots-Tag:noindex
X-PUBLISHED-TTL:PT1H
BEGIN:VTIMEZONE
TZID:America/Chicago
BEGIN:DAYLIGHT
TZOFFSETFROM:-0600
TZOFFSETTO:-0500
TZNAME:CDT
DTSTART:20210314T080000
END:DAYLIGHT
BEGIN:STANDARD
TZOFFSETFROM:-0500
TZOFFSETTO:-0600
TZNAME:CST
DTSTART:20211107T070000
END:STANDARD
BEGIN:DAYLIGHT
TZOFFSETFROM:-0600
TZOFFSETTO:-0500
TZNAME:CDT
DTSTART:20220313T080000
END:DAYLIGHT
BEGIN:STANDARD
TZOFFSETFROM:-0500
TZOFFSETTO:-0600
TZNAME:CST
DTSTART:20221106T070000
END:STANDARD
BEGIN:DAYLIGHT
TZOFFSETFROM:-0600
TZOFFSETTO:-0500
TZNAME:CDT
DTSTART:20230312T080000
END:DAYLIGHT
BEGIN:STANDARD
TZOFFSETFROM:-0500
TZOFFSETTO:-0600
TZNAME:CST
DTSTART:20231105T070000
END:STANDARD
END:VTIMEZONE
BEGIN:VEVENT
DTSTART;TZID=America/Chicago:20220517T160000
DTEND;TZID=America/Chicago:20220517T170000
DTSTAMP:20260421T055322
CREATED:20220502T154221Z
LAST-MODIFIED:20220510T210106Z
UID:4468-1652803200-1652806800@spls.lib.ok.us
SUMMARY:"Healthy for life: Six Circles of Health" @4pm - 5pm with Brian Denton
DESCRIPTION:Great Plains Literacy Council and the Southern Prairie Library System\nwill present\n“Healthy for Life: Six Circles of Health”\nThis program is being presented by Brian Denton of Brian Denton Health and Wellness. Brian is a certified Holistic Health Coach and a Functional Nutrition Coach. \nPlease join us \n\nTuesday  May 17\, 2022\n4:00 p.m.\nAltus Public Library\, 421 N. Hudson\n\nFor more information\, please call the library at 580-477-2890 \nThe Great Plains Literacy Council and the Southern Prairie Library System are co-sponsoring a series of Health and Wellness programs to encourage and promote healthy lifestyles in southwest Oklahoma. “Financial assistance for these special projects is made possible with federal funds from the Institute of Museum and Library Services administered through the Oklahoma Department of Libraries.” Additional funding is provided by a Southwest Rural Electric Operation Round Up grant. \n 
URL:https://spls.lib.ok.us/event/healthy-for-life-4pm-5pm/
CATEGORIES:Family
END:VEVENT
END:VCALENDAR