BEGIN:VCALENDAR
VERSION:2.0
PRODID:-//Southern Prairie Library - ECPv6.15.14//NONSGML v1.0//EN
CALSCALE:GREGORIAN
METHOD:PUBLISH
X-WR-CALNAME:Southern Prairie Library
X-ORIGINAL-URL:https://spls.lib.ok.us
X-WR-CALDESC:Events for Southern Prairie Library
REFRESH-INTERVAL;VALUE=DURATION:PT1H
X-Robots-Tag:noindex
X-PUBLISHED-TTL:PT1H
BEGIN:VTIMEZONE
TZID:America/Chicago
BEGIN:DAYLIGHT
TZOFFSETFROM:-0600
TZOFFSETTO:-0500
TZNAME:CDT
DTSTART:20240310T080000
END:DAYLIGHT
BEGIN:STANDARD
TZOFFSETFROM:-0500
TZOFFSETTO:-0600
TZNAME:CST
DTSTART:20241103T070000
END:STANDARD
BEGIN:DAYLIGHT
TZOFFSETFROM:-0600
TZOFFSETTO:-0500
TZNAME:CDT
DTSTART:20250309T080000
END:DAYLIGHT
BEGIN:STANDARD
TZOFFSETFROM:-0500
TZOFFSETTO:-0600
TZNAME:CST
DTSTART:20251102T070000
END:STANDARD
BEGIN:DAYLIGHT
TZOFFSETFROM:-0600
TZOFFSETTO:-0500
TZNAME:CDT
DTSTART:20260308T080000
END:DAYLIGHT
BEGIN:STANDARD
TZOFFSETFROM:-0500
TZOFFSETTO:-0600
TZNAME:CST
DTSTART:20261101T070000
END:STANDARD
END:VTIMEZONE
BEGIN:VEVENT
DTSTART;TZID=America/Chicago:20251001T110000
DTEND;TZID=America/Chicago:20251001T120000
DTSTAMP:20260423T044243
CREATED:20250929T163300Z
LAST-MODIFIED:20250929T163300Z
UID:9263-1759316400-1759320000@spls.lib.ok.us
SUMMARY:Story Time & Craft @ 11 a.m.
DESCRIPTION:October Story Time & Craft Schedule!\n\n\n\nJoin us every Wednesday at 11 AM for fun stories\, themed crafts\, and lots of imagination at the Altus Public Library! Perfect for Ages Pre-K and Up!\n\n\n\nHere’s what’s coming up:\n\n\nOctober 1st – Theme: Ghosts\nCraft: Cotton Ball Ghosts\n\n\n\nOctober 8th – Theme: Bears\nCraft: Sleeping Bear Plate Craft\n\n\n\nOctober 15th – Theme: Monsters\nCraft: Build a Monster\n\n\n\nOctober 22nd – Theme: Pumpkins\nCraft: Pumpkin Wrapping\n\n\n\nOctober 29th – Theme: Halloween\nCraft: Build a Pumpkin\n\nAltus Public Library – 421 N Hudson St.\n\n\n(580) 477-2890\n\n\n\nCome for the stories\, stay for the crafts! See you there!
URL:https://spls.lib.ok.us/event/story-time-craft-11-a-m-39/2025-10-01/
CATEGORIES:Family,Infants & Toddlers up to age 5
END:VEVENT
BEGIN:VEVENT
DTSTART;TZID=America/Chicago:20251006T110000
DTEND;TZID=America/Chicago:20251006T120000
DTSTAMP:20260423T044244
CREATED:20250929T165045Z
LAST-MODIFIED:20250929T165045Z
UID:9273-1759748400-1759752000@spls.lib.ok.us
SUMMARY:Silent Book Club @ 11 a.m.
DESCRIPTION:Join us for Silent Book Club this morning at 11 AM!\n\n\n\nMonday\, October 6th from 11 AM – 1 PM\nAltus Public Library – 421 N Hudson St.\n\n\n\nNo assigned reading. No pressure. Just quiet\, cozy reading time with fellow book lovers.\n\nBring your own book or grab one from the library shelves and settle in for two hours of uninterrupted reading bliss.\n\n\n\nPerfect for introverts\, busy readers\, or anyone craving some peaceful book time!
URL:https://spls.lib.ok.us/event/silent-book-club-11-a-m/
CATEGORIES:Adults,Family
END:VEVENT
BEGIN:VEVENT
DTSTART;TZID=America/Chicago:20251007T170000
DTEND;TZID=America/Chicago:20251007T180000
DTSTAMP:20260423T044244
CREATED:20250929T162451Z
LAST-MODIFIED:20250929T162635Z
UID:9209-1759856400-1759860000@spls.lib.ok.us
SUMMARY:Ya Ya Yarn @ 5 p.m.
DESCRIPTION:Calling all yarn lovers!\n\n\n\nWhether you’re a seasoned pro with needles and hooks or just picking up yarn for the first time — Ya Ya Yarn is for YOU!\n\n\n\nTuesday\, Ocotber 7th at 5 PM\nAltus Public Library- 421 N Hudson St.\n(580) 477-2890\n\n\n\nBring your current project or come ready to learn something new in a fun\, welcoming space. We’ll provide good company\, great conversation\, and plenty of creative inspiration.
URL:https://spls.lib.ok.us/event/ya-ya-yarn-5-p-m-3/
CATEGORIES:Adults,Family
END:VEVENT
BEGIN:VEVENT
DTSTART;TZID=America/Chicago:20251008T110000
DTEND;TZID=America/Chicago:20251008T120000
DTSTAMP:20260423T044244
CREATED:20250929T163300Z
LAST-MODIFIED:20250929T163300Z
UID:9264-1759921200-1759924800@spls.lib.ok.us
SUMMARY:Story Time & Craft @ 11 a.m.
DESCRIPTION:October Story Time & Craft Schedule!\n\n\n\nJoin us every Wednesday at 11 AM for fun stories\, themed crafts\, and lots of imagination at the Altus Public Library! Perfect for Ages Pre-K and Up!\n\n\n\nHere’s what’s coming up:\n\n\nOctober 1st – Theme: Ghosts\nCraft: Cotton Ball Ghosts\n\n\n\nOctober 8th – Theme: Bears\nCraft: Sleeping Bear Plate Craft\n\n\n\nOctober 15th – Theme: Monsters\nCraft: Build a Monster\n\n\n\nOctober 22nd – Theme: Pumpkins\nCraft: Pumpkin Wrapping\n\n\n\nOctober 29th – Theme: Halloween\nCraft: Build a Pumpkin\n\nAltus Public Library – 421 N Hudson St.\n\n\n(580) 477-2890\n\n\n\nCome for the stories\, stay for the crafts! See you there!
URL:https://spls.lib.ok.us/event/story-time-craft-11-a-m-39/2025-10-08/
CATEGORIES:Family,Infants & Toddlers up to age 5
END:VEVENT
BEGIN:VEVENT
DTSTART;TZID=America/Chicago:20251010T160000
DTEND;TZID=America/Chicago:20251010T170000
DTSTAMP:20260423T044244
CREATED:20250929T163739Z
LAST-MODIFIED:20250929T170728Z
UID:9269-1760112000-1760115600@spls.lib.ok.us
SUMMARY:STEAM Day @ 4 p.m.
DESCRIPTION:It’s almost time for another STEAM Day at the Altus Public Library!\n\nJoin us on Friday\, October 10th at 4 PM for Engineering Challenges!\n\n\n\nKids and parents will work together using cups\, popsicle sticks\, and wooden cubes to see what amazing creations they can build. All supplies will be provided—just bring your creativity (and maybe a spooky smile).\n\n\n\nAltus Public Library – 421 N Hudson St.\n(580) 477-2890
URL:https://spls.lib.ok.us/event/steam-day-4-p-m-4/
CATEGORIES:Ages 8-18,Family
END:VEVENT
BEGIN:VEVENT
DTSTART;VALUE=DATE:20251013
DTEND;VALUE=DATE:20251014
DTSTAMP:20260423T044244
CREATED:20250929T170048Z
LAST-MODIFIED:20250929T170048Z
UID:9283-1760313600-1760399999@spls.lib.ok.us
SUMMARY:Closed - Columbus Day
DESCRIPTION:The Altus Public Library will be closed on Monday\, October 13th in observance of the Columbus Day holiday. \nWe will re-open at our normal hours on Tuesday\, October 14th.
URL:https://spls.lib.ok.us/event/closed-columbus-day-4/
CATEGORIES:Adults,Family
END:VEVENT
BEGIN:VEVENT
DTSTART;TZID=America/Chicago:20251015T110000
DTEND;TZID=America/Chicago:20251015T120000
DTSTAMP:20260423T044244
CREATED:20250929T163300Z
LAST-MODIFIED:20250929T163300Z
UID:9265-1760526000-1760529600@spls.lib.ok.us
SUMMARY:Story Time & Craft @ 11 a.m.
DESCRIPTION:October Story Time & Craft Schedule!\n\n\n\nJoin us every Wednesday at 11 AM for fun stories\, themed crafts\, and lots of imagination at the Altus Public Library! Perfect for Ages Pre-K and Up!\n\n\n\nHere’s what’s coming up:\n\n\nOctober 1st – Theme: Ghosts\nCraft: Cotton Ball Ghosts\n\n\n\nOctober 8th – Theme: Bears\nCraft: Sleeping Bear Plate Craft\n\n\n\nOctober 15th – Theme: Monsters\nCraft: Build a Monster\n\n\n\nOctober 22nd – Theme: Pumpkins\nCraft: Pumpkin Wrapping\n\n\n\nOctober 29th – Theme: Halloween\nCraft: Build a Pumpkin\n\nAltus Public Library – 421 N Hudson St.\n\n\n(580) 477-2890\n\n\n\nCome for the stories\, stay for the crafts! See you there!
URL:https://spls.lib.ok.us/event/story-time-craft-11-a-m-39/2025-10-15/
CATEGORIES:Family,Infants & Toddlers up to age 5
END:VEVENT
BEGIN:VEVENT
DTSTART;TZID=America/Chicago:20251017T160000
DTEND;TZID=America/Chicago:20251017T170000
DTSTAMP:20260423T044244
CREATED:20250929T171041Z
LAST-MODIFIED:20250929T171041Z
UID:9291-1760716800-1760720400@spls.lib.ok.us
SUMMARY:Family Fun Day @ 4 p.m.
DESCRIPTION:Family Fun Day Presents: Pumpkin Painting! \nFriday\, October 17th from 4 PM – 5 PM \nCome paint a pumpkin at the Altus Public Library! \nArtificial pumpkins will be provided.\nREGISTRATION IS LIMITED TO 30 PEOPLE. \nTo register\, call or visit the Altus Public Library – 421 N. Hudson\n(580) 477-2890
URL:https://spls.lib.ok.us/event/family-fun-day-4-p-m-2/
CATEGORIES:Family
END:VEVENT
BEGIN:VEVENT
DTSTART;TZID=America/Chicago:20251018T140000
DTEND;TZID=America/Chicago:20251018T150000
DTSTAMP:20260423T044244
CREATED:20250929T165521Z
LAST-MODIFIED:20250929T165521Z
UID:9277-1760796000-1760799600@spls.lib.ok.us
SUMMARY:LEGO Club @ 2 p.m.
DESCRIPTION:ATTENTION ALL BUILDERS!!!\n\n\n\nJoin us this Saturday\, October 18th\, at 2 PM for our next LEGO CLUB!\n\n\n\nBuilders of all ages are welcome at this program! We’ll provide the Legos\, all you need to do is bring your imagination!\n\n\n\nWhen we’re done\, all builds will be displayed in our glass case in the Children’s Area of the Altus Public Library for everyone to see until our next Lego Club meeting!
URL:https://spls.lib.ok.us/event/lego-club-2-p-m-18/
CATEGORIES:Family
END:VEVENT
BEGIN:VEVENT
DTSTART;TZID=America/Chicago:20251020T120000
DTEND;TZID=America/Chicago:20251020T133000
DTSTAMP:20260423T044244
CREATED:20250929T165656Z
LAST-MODIFIED:20250929T165656Z
UID:9279-1760961600-1760967000@spls.lib.ok.us
SUMMARY:Jackson County Health Department Community Outreach @ 12 p.m.
DESCRIPTION:Do you have questions about food assistance\, insurance\, local services or specialized help? Thanks to a partnership with the District 5 Southwest Oklahoma County Health Departments\, help is available! \nA Community Health Worker (CHW) can help you navigate your unique situation. Stop by the Altus Public Library\, 421 N. Hudson\, from 12:00 to 1:30 PM TODAY! There will be a CHW here to help you find the right solutions to your specific needs. \nThis program is FREE and open to the public! Come see us!
URL:https://spls.lib.ok.us/event/jackson-county-health-department-community-outreach-12-p-m-6/
CATEGORIES:Family
END:VEVENT
BEGIN:VEVENT
DTSTART;TZID=America/Chicago:20251022T110000
DTEND;TZID=America/Chicago:20251022T120000
DTSTAMP:20260423T044244
CREATED:20250929T163300Z
LAST-MODIFIED:20250929T163300Z
UID:9266-1761130800-1761134400@spls.lib.ok.us
SUMMARY:Story Time & Craft @ 11 a.m.
DESCRIPTION:October Story Time & Craft Schedule!\n\n\n\nJoin us every Wednesday at 11 AM for fun stories\, themed crafts\, and lots of imagination at the Altus Public Library! Perfect for Ages Pre-K and Up!\n\n\n\nHere’s what’s coming up:\n\n\nOctober 1st – Theme: Ghosts\nCraft: Cotton Ball Ghosts\n\n\n\nOctober 8th – Theme: Bears\nCraft: Sleeping Bear Plate Craft\n\n\n\nOctober 15th – Theme: Monsters\nCraft: Build a Monster\n\n\n\nOctober 22nd – Theme: Pumpkins\nCraft: Pumpkin Wrapping\n\n\n\nOctober 29th – Theme: Halloween\nCraft: Build a Pumpkin\n\nAltus Public Library – 421 N Hudson St.\n\n\n(580) 477-2890\n\n\n\nCome for the stories\, stay for the crafts! See you there!
URL:https://spls.lib.ok.us/event/story-time-craft-11-a-m-39/2025-10-22/
CATEGORIES:Family,Infants & Toddlers up to age 5
END:VEVENT
BEGIN:VEVENT
DTSTART;TZID=America/Chicago:20251022T153000
DTEND;TZID=America/Chicago:20251022T173000
DTSTAMP:20260423T044244
CREATED:20250929T165858Z
LAST-MODIFIED:20250929T165858Z
UID:9281-1761147000-1761154200@spls.lib.ok.us
SUMMARY:Group Connections @ 3:30 p.m.
DESCRIPTION:
URL:https://spls.lib.ok.us/event/group-connections-330-p-m-7/
CATEGORIES:Family,Infants & Toddlers up to age 5
END:VEVENT
BEGIN:VEVENT
DTSTART;TZID=America/Chicago:20251023T170000
DTEND;TZID=America/Chicago:20251023T190000
DTSTAMP:20260423T044244
CREATED:20250929T165333Z
LAST-MODIFIED:20250929T165333Z
UID:9275-1761238800-1761246000@spls.lib.ok.us
SUMMARY:Silent Book Club @ 5 p.m.
DESCRIPTION:Join us for Silent Book Club this evening at 5 PM!\n\n\n\nThursday\, October 23rd from 5 PM – 7 PM\nAltus Public Library – 421 N Hudson St.\n\n\n\nNo assigned reading. No pressure. Just quiet\, cozy reading time with fellow book lovers.\n\nBring your own book or grab one from the library shelves and settle in for two hours of uninterrupted reading bliss.\n\n\n\nPerfect for introverts\, busy readers\, or anyone craving some peaceful book time!
URL:https://spls.lib.ok.us/event/silent-book-club-5-p-m-2/
CATEGORIES:Adults,Family
END:VEVENT
BEGIN:VEVENT
DTSTART;TZID=America/Chicago:20251029T110000
DTEND;TZID=America/Chicago:20251029T120000
DTSTAMP:20260423T044244
CREATED:20250929T163300Z
LAST-MODIFIED:20250929T163300Z
UID:9267-1761735600-1761739200@spls.lib.ok.us
SUMMARY:Story Time & Craft @ 11 a.m.
DESCRIPTION:October Story Time & Craft Schedule!\n\n\n\nJoin us every Wednesday at 11 AM for fun stories\, themed crafts\, and lots of imagination at the Altus Public Library! Perfect for Ages Pre-K and Up!\n\n\n\nHere’s what’s coming up:\n\n\nOctober 1st – Theme: Ghosts\nCraft: Cotton Ball Ghosts\n\n\n\nOctober 8th – Theme: Bears\nCraft: Sleeping Bear Plate Craft\n\n\n\nOctober 15th – Theme: Monsters\nCraft: Build a Monster\n\n\n\nOctober 22nd – Theme: Pumpkins\nCraft: Pumpkin Wrapping\n\n\n\nOctober 29th – Theme: Halloween\nCraft: Build a Pumpkin\n\nAltus Public Library – 421 N Hudson St.\n\n\n(580) 477-2890\n\n\n\nCome for the stories\, stay for the crafts! See you there!
URL:https://spls.lib.ok.us/event/story-time-craft-11-a-m-39/2025-10-29/
CATEGORIES:Family,Infants & Toddlers up to age 5
END:VEVENT
BEGIN:VEVENT
DTSTART;TZID=America/Chicago:20251031T110000
DTEND;TZID=America/Chicago:20251031T120000
DTSTAMP:20260423T044244
CREATED:20250929T162617Z
LAST-MODIFIED:20250929T162617Z
UID:9223-1761908400-1761912000@spls.lib.ok.us
SUMMARY:Ya Ya Yarn @ 11 a.m.
DESCRIPTION:Calling all yarn lovers!\n\n\n\nWhether you’re a seasoned pro with needles and hooks or just picking up yarn for the first time — Ya Ya Yarn is for YOU!\n\n\n\nFriday\, Ocotber 31st at 11 AM\nAltus Public Library- 421 N Hudson St.\n(580) 477-2890\n\n\n\nBring your current project or come ready to learn something new in a fun\, welcoming space. We’ll provide good company\, great conversation\, and plenty of creative inspiration.
URL:https://spls.lib.ok.us/event/ya-ya-yarn-11-a-m-26/
CATEGORIES:Adults,Family
END:VEVENT
BEGIN:VEVENT
DTSTART;TZID=America/Chicago:20251031T143000
DTEND;TZID=America/Chicago:20251031T170000
DTSTAMP:20260423T044244
CREATED:20250929T170650Z
LAST-MODIFIED:20250929T170650Z
UID:9287-1761921000-1761930000@spls.lib.ok.us
SUMMARY:Treats at the Library @ 2:30 p.m.
DESCRIPTION:You’re invited to Treats at the Library! \nFriday\, October 21st from 2:30 PM – 5 PM \nCome and enjoy a spooky good time at the Altus Public Library! \nNo tricks\, only treats! \nAltus Public Library – 421 N. Hudson\n(580) 477-2890
URL:https://spls.lib.ok.us/event/treats-at-the-library-230-p-m/
CATEGORIES:Family
END:VEVENT
END:VCALENDAR