BEGIN:VCALENDAR
VERSION:2.0
PRODID:-//Southern Prairie Library - ECPv6.15.14//NONSGML v1.0//EN
CALSCALE:GREGORIAN
METHOD:PUBLISH
X-ORIGINAL-URL:https://spls.lib.ok.us
X-WR-CALDESC:Events for Southern Prairie Library
REFRESH-INTERVAL;VALUE=DURATION:PT1H
X-Robots-Tag:noindex
X-PUBLISHED-TTL:PT1H
BEGIN:VTIMEZONE
TZID:America/Chicago
BEGIN:DAYLIGHT
TZOFFSETFROM:-0600
TZOFFSETTO:-0500
TZNAME:CDT
DTSTART:20220313T080000
END:DAYLIGHT
BEGIN:STANDARD
TZOFFSETFROM:-0500
TZOFFSETTO:-0600
TZNAME:CST
DTSTART:20221106T070000
END:STANDARD
BEGIN:DAYLIGHT
TZOFFSETFROM:-0600
TZOFFSETTO:-0500
TZNAME:CDT
DTSTART:20230312T080000
END:DAYLIGHT
BEGIN:STANDARD
TZOFFSETFROM:-0500
TZOFFSETTO:-0600
TZNAME:CST
DTSTART:20231105T070000
END:STANDARD
BEGIN:DAYLIGHT
TZOFFSETFROM:-0600
TZOFFSETTO:-0500
TZNAME:CDT
DTSTART:20240310T080000
END:DAYLIGHT
BEGIN:STANDARD
TZOFFSETFROM:-0500
TZOFFSETTO:-0600
TZNAME:CST
DTSTART:20241103T070000
END:STANDARD
END:VTIMEZONE
BEGIN:VEVENT
DTSTART;TZID=America/Chicago:20230601T140000
DTEND;TZID=America/Chicago:20230601T150000
DTSTAMP:20260419T183609
CREATED:20230522T213020Z
LAST-MODIFIED:20230525T171251Z
UID:6071-1685628000-1685631600@spls.lib.ok.us
SUMMARY:Foam Party @ the Altus Splash Pad @ 2 p.m.
DESCRIPTION:Help us kick off the Summer Library Program right with a Foam Party in the park! Altus event will take place at the Altus Splash Pad at 601 Katy Drive (next to the City Gym).
URL:https://spls.lib.ok.us/event/foam-party-hoyt-shadid-park-2-p-m/
CATEGORIES:Family
END:VEVENT
BEGIN:VEVENT
DTSTART;TZID=America/Chicago:20230608T140000
DTEND;TZID=America/Chicago:20230608T150000
DTSTAMP:20260419T183609
CREATED:20230522T213646Z
LAST-MODIFIED:20230523T145916Z
UID:6073-1686232800-1686236400@spls.lib.ok.us
SUMMARY:Finer Arts Oklahoma @ Altus Community Center @ 2 p.m.
DESCRIPTION:Learn about the performing arts with a special presentation involving music\, movement\, and improv!
URL:https://spls.lib.ok.us/event/finer-arts-oklahoma-altus-community-center-2-p-m/
CATEGORIES:Family
END:VEVENT
BEGIN:VEVENT
DTSTART;TZID=America/Chicago:20230615T140000
DTEND;TZID=America/Chicago:20230615T150000
DTSTAMP:20260419T183609
CREATED:20230522T221944Z
LAST-MODIFIED:20230523T145616Z
UID:6101-1686837600-1686841200@spls.lib.ok.us
SUMMARY:Mad Science @ Altus Community Center @ 2 p.m.
DESCRIPTION:Mad Science of Central Oklahoma provides a fun learning environment where a Mad Scientist educator delivers a quality experience for learners.
URL:https://spls.lib.ok.us/event/mad-science-altus-community-center-2-p-m/
CATEGORIES:Family
END:VEVENT
BEGIN:VEVENT
DTSTART;VALUE=DATE:20230618
DTEND;VALUE=DATE:20230619
DTSTAMP:20260419T183609
CREATED:20230522T214631Z
LAST-MODIFIED:20230522T214631Z
UID:6091-1687046400-1687132799@spls.lib.ok.us
SUMMARY:Happy Father's Day!
DESCRIPTION:
URL:https://spls.lib.ok.us/event/happy-fathers-day-2/
CATEGORIES:Family
END:VEVENT
BEGIN:VEVENT
DTSTART;VALUE=DATE:20230619
DTEND;VALUE=DATE:20230620
DTSTAMP:20260419T183609
CREATED:20230522T214216Z
LAST-MODIFIED:20230522T214216Z
UID:6084-1687132800-1687219199@spls.lib.ok.us
SUMMARY:Closed - Juneteenth
DESCRIPTION:
URL:https://spls.lib.ok.us/event/closed-juneteenth/
CATEGORIES:Family
END:VEVENT
BEGIN:VEVENT
DTSTART;TZID=America/Chicago:20230621T100000
DTEND;TZID=America/Chicago:20230621T110000
DTSTAMP:20260419T183609
CREATED:20230522T213931Z
LAST-MODIFIED:20230522T213931Z
UID:6078-1687341600-1687345200@spls.lib.ok.us
SUMMARY:Bilingual Story Time & Craft @ 10 a.m.
DESCRIPTION:
URL:https://spls.lib.ok.us/event/bilingual-story-time-craft-10-a-m-7/
CATEGORIES:Family,Infants & Toddlers up to age 5,Literacy Event
END:VEVENT
BEGIN:VEVENT
DTSTART;TZID=America/Chicago:20230622T140000
DTEND;TZID=America/Chicago:20230622T150000
DTSTAMP:20260419T183609
CREATED:20230522T222533Z
LAST-MODIFIED:20230523T150040Z
UID:6103-1687442400-1687446000@spls.lib.ok.us
SUMMARY:Aaron Fowler @ Altus Community Center @ 2 p.m.
DESCRIPTION:Author and musician Aaron Fowler of Wichita\, KS will join us to share songs and stories. Aaron is a talented storyteller and enjoyed by children and adults alike.
URL:https://spls.lib.ok.us/event/aaron-fowler-altus-community-center-2-p-m/
CATEGORIES:Family
END:VEVENT
BEGIN:VEVENT
DTSTART;TZID=America/Chicago:20230629T140000
DTEND;TZID=America/Chicago:20230629T150000
DTSTAMP:20260419T183609
CREATED:20230522T222626Z
LAST-MODIFIED:20230523T145743Z
UID:6105-1688047200-1688050800@spls.lib.ok.us
SUMMARY:Field Day @ Altus Community Center @ 2 p.m.
DESCRIPTION:Join us to participate in a team building field day! Play games like hula hoop hustle\, human knots\, and a mummy relay. We’ll also have an obstacle course to complete the day!
URL:https://spls.lib.ok.us/event/field-day-altus-community-center-2-p-m/
CATEGORIES:Family
END:VEVENT
END:VCALENDAR