BEGIN:VCALENDAR
VERSION:2.0
PRODID:-//Southern Prairie Library - ECPv6.15.14//NONSGML v1.0//EN
CALSCALE:GREGORIAN
METHOD:PUBLISH
X-WR-CALNAME:Southern Prairie Library
X-ORIGINAL-URL:https://spls.lib.ok.us
X-WR-CALDESC:Events for Southern Prairie Library
REFRESH-INTERVAL;VALUE=DURATION:PT1H
X-Robots-Tag:noindex
X-PUBLISHED-TTL:PT1H
BEGIN:VTIMEZONE
TZID:America/Chicago
BEGIN:DAYLIGHT
TZOFFSETFROM:-0600
TZOFFSETTO:-0500
TZNAME:CDT
DTSTART:20210314T080000
END:DAYLIGHT
BEGIN:STANDARD
TZOFFSETFROM:-0500
TZOFFSETTO:-0600
TZNAME:CST
DTSTART:20211107T070000
END:STANDARD
BEGIN:DAYLIGHT
TZOFFSETFROM:-0600
TZOFFSETTO:-0500
TZNAME:CDT
DTSTART:20220313T080000
END:DAYLIGHT
BEGIN:STANDARD
TZOFFSETFROM:-0500
TZOFFSETTO:-0600
TZNAME:CST
DTSTART:20221106T070000
END:STANDARD
BEGIN:DAYLIGHT
TZOFFSETFROM:-0600
TZOFFSETTO:-0500
TZNAME:CDT
DTSTART:20230312T080000
END:DAYLIGHT
BEGIN:STANDARD
TZOFFSETFROM:-0500
TZOFFSETTO:-0600
TZNAME:CST
DTSTART:20231105T070000
END:STANDARD
END:VTIMEZONE
BEGIN:VEVENT
DTSTART;TZID=America/Chicago:20220803T100000
DTEND;TZID=America/Chicago:20220803T110000
DTSTAMP:20260420T205245
CREATED:20220721T170235Z
LAST-MODIFIED:20230522T213814Z
UID:4969-1659520800-1659524400@spls.lib.ok.us
SUMMARY:Story Time & Craft @ 10 a.m.
DESCRIPTION:Bring your preschoolers to the library for a story time and craft. Every Wednesday at 10:00 AM we will explore a new theme!
URL:https://spls.lib.ok.us/event/story-time-craft-11-am-2/2022-08-03/
CATEGORIES:Family,Infants & Toddlers up to age 5
ATTACH;FMTTYPE=image/png:https://spls.lib.ok.us/wp-content/uploads/2022/07/story-time-Facebook-Event-Cover-100-×-100-px.png
END:VEVENT
BEGIN:VEVENT
DTSTART;TZID=America/Chicago:20220804T160000
DTEND;TZID=America/Chicago:20220804T170000
DTSTAMP:20260420T205245
CREATED:20220721T165240Z
LAST-MODIFIED:20220819T194318Z
UID:4960-1659628800-1659632400@spls.lib.ok.us
SUMMARY:Kik It Up @ 4 pm - with Shelly Mullens
DESCRIPTION:
URL:https://spls.lib.ok.us/event/kick-it-up-4-pm/2022-08-04/
CATEGORIES:Family,Literacy Event
END:VEVENT
BEGIN:VEVENT
DTSTART;VALUE=DATE:20220811
DTEND;VALUE=DATE:20220812
DTSTAMP:20260420T205245
CREATED:20220721T165809Z
LAST-MODIFIED:20220721T165809Z
UID:4965-1660176000-1660262399@spls.lib.ok.us
SUMMARY:First Day of School
DESCRIPTION:Happy School Year Everyone!!\nIt’s a new year with exciting adventures to come!!
URL:https://spls.lib.ok.us/event/first-day-of-school/
CATEGORIES:Ages 8-18,Family
ATTACH;FMTTYPE=image/jpeg:https://spls.lib.ok.us/wp-content/uploads/2022/07/School-Clipart-50389.jpg
END:VEVENT
BEGIN:VEVENT
DTSTART;TZID=America/Chicago:20220820T140000
DTEND;TZID=America/Chicago:20220820T150000
DTSTAMP:20260420T205245
CREATED:20220720T190719Z
LAST-MODIFIED:20221102T213510Z
UID:4958-1661004000-1661007600@spls.lib.ok.us
SUMMARY:Lego Club @ 2 pm
DESCRIPTION:Lego Club \nThe third Saturday of every month @ 2 p.m – 3 p.m.
URL:https://spls.lib.ok.us/event/lego-club-2-pm/2022-08-20/
CATEGORIES:Family
ATTACH;FMTTYPE=image/jpeg:https://spls.lib.ok.us/wp-content/uploads/2022/07/Picture2.jpg
END:VEVENT
END:VCALENDAR