BEGIN:VCALENDAR
VERSION:2.0
PRODID:-//Southern Prairie Library - ECPv6.15.14//NONSGML v1.0//EN
CALSCALE:GREGORIAN
METHOD:PUBLISH
X-ORIGINAL-URL:https://spls.lib.ok.us
X-WR-CALDESC:Events for Southern Prairie Library
REFRESH-INTERVAL;VALUE=DURATION:PT1H
X-Robots-Tag:noindex
X-PUBLISHED-TTL:PT1H
BEGIN:VTIMEZONE
TZID:America/Chicago
BEGIN:DAYLIGHT
TZOFFSETFROM:-0600
TZOFFSETTO:-0500
TZNAME:CDT
DTSTART:20190310T080000
END:DAYLIGHT
BEGIN:STANDARD
TZOFFSETFROM:-0500
TZOFFSETTO:-0600
TZNAME:CST
DTSTART:20191103T070000
END:STANDARD
BEGIN:DAYLIGHT
TZOFFSETFROM:-0600
TZOFFSETTO:-0500
TZNAME:CDT
DTSTART:20200308T080000
END:DAYLIGHT
BEGIN:STANDARD
TZOFFSETFROM:-0500
TZOFFSETTO:-0600
TZNAME:CST
DTSTART:20201101T070000
END:STANDARD
BEGIN:DAYLIGHT
TZOFFSETFROM:-0600
TZOFFSETTO:-0500
TZNAME:CDT
DTSTART:20210314T080000
END:DAYLIGHT
BEGIN:STANDARD
TZOFFSETFROM:-0500
TZOFFSETTO:-0600
TZNAME:CST
DTSTART:20211107T070000
END:STANDARD
END:VTIMEZONE
BEGIN:VEVENT
DTSTART;TZID=America/Chicago:20200201T103000
DTEND;TZID=America/Chicago:20200201T120000
DTSTAMP:20260423T195746
CREATED:20200128T185556Z
LAST-MODIFIED:20200128T185556Z
UID:1171-1580553000-1580558400@spls.lib.ok.us
SUMMARY:Ground Hog Day Storytime
DESCRIPTION:This will be at 10:30 a.m. in the community room at the library. There will be a story read about groundhog day and a craft for the kids to do.
URL:https://spls.lib.ok.us/event/ground-hog-day-storytime/
LOCATION:Altus Public Library\, 421 N Hudson St\, Altus\, OK\, OK 73521\, United States
CATEGORIES:Family
END:VEVENT
BEGIN:VEVENT
DTSTART;VALUE=DATE:20200205
DTEND;VALUE=DATE:20200206
DTSTAMP:20260423T195746
CREATED:20200204T213109Z
LAST-MODIFIED:20200204T221152Z
UID:1216-1580860800-1580947199@spls.lib.ok.us
SUMMARY:February 5\, 2020 Closed
DESCRIPTION:  \n  \nThe Southern Prairie Library System in Altus and Hollis \nwill be closed tomorrow\, February 5\, 2020\, for bad weather. \nAll programming for this day has also been cancelled.
URL:https://spls.lib.ok.us/event/february-5-2020-closed/
CATEGORIES:Family
ATTACH;FMTTYPE=image/jpeg:https://spls.lib.ok.us/wp-content/uploads/2020/02/freezingpenguin.jpg
END:VEVENT
BEGIN:VEVENT
DTSTART;TZID=America/Chicago:20200215T150000
DTEND;TZID=America/Chicago:20200215T170000
DTSTAMP:20260423T195746
CREATED:20200128T205405Z
LAST-MODIFIED:20210630T184612Z
UID:1189-1581778800-1581786000@spls.lib.ok.us
SUMMARY:LEGO club
DESCRIPTION:Come have fun building with legos.
URL:https://spls.lib.ok.us/event/lego-club/2020-02-15/
LOCATION:Altus Public Library\, 421 N Hudson St\, Altus\, OK\, OK 73521\, United States
CATEGORIES:Family
END:VEVENT
END:VCALENDAR