BEGIN:VCALENDAR
VERSION:2.0
PRODID:-//Southern Prairie Library - ECPv6.15.14//NONSGML v1.0//EN
CALSCALE:GREGORIAN
METHOD:PUBLISH
X-ORIGINAL-URL:https://spls.lib.ok.us
X-WR-CALDESC:Events for Southern Prairie Library
REFRESH-INTERVAL;VALUE=DURATION:PT1H
X-Robots-Tag:noindex
X-PUBLISHED-TTL:PT1H
BEGIN:VTIMEZONE
TZID:America/Chicago
BEGIN:DAYLIGHT
TZOFFSETFROM:-0600
TZOFFSETTO:-0500
TZNAME:CDT
DTSTART:20190310T080000
END:DAYLIGHT
BEGIN:STANDARD
TZOFFSETFROM:-0500
TZOFFSETTO:-0600
TZNAME:CST
DTSTART:20191103T070000
END:STANDARD
BEGIN:DAYLIGHT
TZOFFSETFROM:-0600
TZOFFSETTO:-0500
TZNAME:CDT
DTSTART:20200308T080000
END:DAYLIGHT
BEGIN:STANDARD
TZOFFSETFROM:-0500
TZOFFSETTO:-0600
TZNAME:CST
DTSTART:20201101T070000
END:STANDARD
BEGIN:DAYLIGHT
TZOFFSETFROM:-0600
TZOFFSETTO:-0500
TZNAME:CDT
DTSTART:20210314T080000
END:DAYLIGHT
BEGIN:STANDARD
TZOFFSETFROM:-0500
TZOFFSETTO:-0600
TZNAME:CST
DTSTART:20211107T070000
END:STANDARD
END:VTIMEZONE
BEGIN:VEVENT
DTSTART;VALUE=DATE:20201012
DTEND;VALUE=DATE:20201013
DTSTAMP:20260423T081013
CREATED:20200922T185637Z
LAST-MODIFIED:20200922T185704Z
UID:2304-1602460800-1602547199@spls.lib.ok.us
SUMMARY:Closed Christopher Columbus Day
DESCRIPTION:Christopher Columbus was a navigator who explored the Americas under the flag of Spain. Some people think of him as the “discoverer” of America\, but this is not strictly true. His voyages across the Atlantic paved the way for European colonization and exploitation of the Americas. Infomation shared from Encyclopedia Britannica.
URL:https://spls.lib.ok.us/event/closed-christopher-columbus-day/
LOCATION:OK
CATEGORIES:16 & up,Adults,Ages 12-18,Ages 8-18,Family,Grades 5th-12th,Grades 6th-12th,Literacy Event
ATTACH;FMTTYPE=image/jpeg:https://spls.lib.ok.us/wp-content/uploads/2020/09/columbusday.jpg
END:VEVENT
BEGIN:VEVENT
DTSTART;TZID=America/Chicago:20200914T160000
DTEND;TZID=America/Chicago:20200914T170000
DTSTAMP:20260423T081013
CREATED:20200817T194547Z
LAST-MODIFIED:20200922T160114Z
UID:2123-1600099200-1600102800@spls.lib.ok.us
SUMMARY:Virtual Code Club
DESCRIPTION:We are excited for Code Club to start meeting again.\nWe will be meeting via Zoom. Call today for information on Virtual Code Club. \n 
URL:https://spls.lib.ok.us/event/virtual-code-club/2020-09-14/
LOCATION:OK
CATEGORIES:Ages 8-18
ATTACH;FMTTYPE=image/jpeg:https://spls.lib.ok.us/wp-content/uploads/2020/08/codeclub-web-1200x600-c-default-e1597697825314.jpg
END:VEVENT
BEGIN:VEVENT
DTSTART;VALUE=DATE:20200618
DTEND;VALUE=DATE:20200623
DTSTAMP:20260423T081013
CREATED:20200616T184005Z
LAST-MODIFIED:20200618T190451Z
UID:1921-1592438400-1592870399@spls.lib.ok.us
SUMMARY:Hampstead Stage Theatre Group
DESCRIPTION:Hampstead Stage Theatre Group and Southern Prairie Library System invites you to a virtual performance of “Alice in Wonderland!” \nThe link to the website is: https://vimeo.com/hampsteadstagecompany/southernprairielibrary \nThe Password is: SOUTHERNPRAIRIE12 \nAccess to the video will begin at 12 am June 18th and end at midnight on June 22nd. \nWe hope you enjoy the performance!
URL:https://spls.lib.ok.us/event/hampstead-stage-theatre-group/
LOCATION:OK
CATEGORIES:Adults,Ages 8-18,Family,Literacy Event
END:VEVENT
BEGIN:VEVENT
DTSTART;TZID=America/Chicago:20200210T160000
DTEND;TZID=America/Chicago:20200210T170000
DTSTAMP:20260423T081013
CREATED:20200123T165759Z
LAST-MODIFIED:20200305T180104Z
UID:1069-1581350400-1581354000@spls.lib.ok.us
SUMMARY:Code Club
DESCRIPTION:Are you between the ages of 8 to 18?\nWant to learn simple coding or gain more coding skills?\nCome join Monday at 4pm.\nIf you have your own laptop feel free to bring it.
URL:https://spls.lib.ok.us/event/code-club-2-2020-02-10/2020-02-10/
LOCATION:Altus Public Library\, 421 N Hudson St\, Altus\, OK\, OK 73521\, United States
CATEGORIES:Ages 8-18
ATTACH;FMTTYPE=image/jpeg:https://spls.lib.ok.us/wp-content/uploads/2019/12/computer-woman-scaled.jpg
END:VEVENT
BEGIN:VEVENT
DTSTART;TZID=America/Chicago:20200203T160000
DTEND;TZID=America/Chicago:20200203T170000
DTSTAMP:20260423T081013
CREATED:20200123T165759Z
LAST-MODIFIED:20200123T170221Z
UID:1068-1580745600-1580749200@spls.lib.ok.us
SUMMARY:Code Club
DESCRIPTION:Are you between the ages of 8 to 18?\nWant to learn simple coding or gain more coding skills?\nCome join Monday at 4pm.\nIf you have your own laptop feel free to bring it.
URL:https://spls.lib.ok.us/event/code-club-2-2020-02-03/2020-02-03/
LOCATION:Altus Public Library\, 421 N Hudson St\, Altus\, OK\, OK 73521\, United States
CATEGORIES:Ages 8-18
END:VEVENT
BEGIN:VEVENT
DTSTART;TZID=America/Chicago:20200127T160000
DTEND;TZID=America/Chicago:20200127T170000
DTSTAMP:20260423T081013
CREATED:20200123T165759Z
LAST-MODIFIED:20200123T170128Z
UID:1061-1580140800-1580144400@spls.lib.ok.us
SUMMARY:Code Club
DESCRIPTION:Are you between the ages of 8 to 18?\nWant to learn simple coding or gain more coding skills?\nCome join Monday at 4pm.\nIf you have your own laptop feel free to bring it.
URL:https://spls.lib.ok.us/event/code-club-2/
LOCATION:Altus Public Library\, 421 N Hudson St\, Altus\, OK\, OK 73521\, United States
CATEGORIES:Ages 8-18
END:VEVENT
END:VCALENDAR