BEGIN:VCALENDAR
VERSION:2.0
PRODID:-//Southern Prairie Library - ECPv6.15.14//NONSGML v1.0//EN
CALSCALE:GREGORIAN
METHOD:PUBLISH
X-ORIGINAL-URL:https://spls.lib.ok.us
X-WR-CALDESC:Events for Southern Prairie Library
REFRESH-INTERVAL;VALUE=DURATION:PT1H
X-Robots-Tag:noindex
X-PUBLISHED-TTL:PT1H
BEGIN:VTIMEZONE
TZID:America/Chicago
BEGIN:DAYLIGHT
TZOFFSETFROM:-0600
TZOFFSETTO:-0500
TZNAME:CDT
DTSTART:20240310T080000
END:DAYLIGHT
BEGIN:STANDARD
TZOFFSETFROM:-0500
TZOFFSETTO:-0600
TZNAME:CST
DTSTART:20241103T070000
END:STANDARD
BEGIN:DAYLIGHT
TZOFFSETFROM:-0600
TZOFFSETTO:-0500
TZNAME:CDT
DTSTART:20250309T080000
END:DAYLIGHT
BEGIN:STANDARD
TZOFFSETFROM:-0500
TZOFFSETTO:-0600
TZNAME:CST
DTSTART:20251102T070000
END:STANDARD
BEGIN:DAYLIGHT
TZOFFSETFROM:-0600
TZOFFSETTO:-0500
TZNAME:CDT
DTSTART:20260308T080000
END:DAYLIGHT
BEGIN:STANDARD
TZOFFSETFROM:-0500
TZOFFSETTO:-0600
TZNAME:CST
DTSTART:20261101T070000
END:STANDARD
END:VTIMEZONE
BEGIN:VEVENT
DTSTART;TZID=America/Chicago:20250402T160000
DTEND;TZID=America/Chicago:20250402T170000
DTSTAMP:20260423T181533
CREATED:20250404T143932Z
LAST-MODIFIED:20250404T143932Z
UID:8544-1743609600-1743613200@spls.lib.ok.us
SUMMARY:STEAM Day @ 4 p.m.
DESCRIPTION:Get ready to swirl\, spin\, and experiment at our next STEAM Wednesday! This time\, we’re making Tornadoes in a Jar—a cool and simple science experiment that lets you see the power of a twister up close!\n\n\n\n\n\nJoin us for a hands-on learning experience where we’ll explore the science behind tornadoes and create our own mini-storms in a jar! No registration needed—just bring your curiosity and get ready for some STEAM fun!
URL:https://spls.lib.ok.us/event/steam-day-4-p-m/
CATEGORIES:Ages 8-18,Family
END:VEVENT
BEGIN:VEVENT
DTSTART;TZID=America/Chicago:20250411T163000
DTEND;TZID=America/Chicago:20250411T173000
DTSTAMP:20260423T181533
CREATED:20250404T145101Z
LAST-MODIFIED:20250404T145101Z
UID:8546-1744389000-1744392600@spls.lib.ok.us
SUMMARY:Mad Science @ 4:30 p.m.
DESCRIPTION:Get Ready to Take Off with Mad Science!\n\n\n\nJoin us for “The Fantasy of Flight”—a thrilling\, high-energy science adventure happening on April 11th!\n\n\n\nWhat to Expect:\n-A 30-minute science-fueled journey into the wonders of flight!\n–Exciting experiments that explore aerodynamics\, propulsion\, and the magic of air!\n–Fun\, interactive demonstrations for all ages!\n\n\n\nWhen: Friday\, April 11th\nTime: 4:30 PM\nWhere: Altus Public Library – 421 N Hudson St.\n\nFREE & fun for the whole family!\n\n\n\nDon’t miss this mad and magical science experience as we explore the fantasy of flight!
URL:https://spls.lib.ok.us/event/mad-science-430-p-m/
CATEGORIES:Adults,Ages 8-18,Family
END:VEVENT
BEGIN:VEVENT
DTSTART;TZID=America/Chicago:20250418T160000
DTEND;TZID=America/Chicago:20250418T170000
DTSTAMP:20260423T181533
CREATED:20250404T145931Z
LAST-MODIFIED:20250404T145931Z
UID:8553-1744992000-1744995600@spls.lib.ok.us
SUMMARY:Family Friday @ 4 p.m.
DESCRIPTION:Get ready to dig into some hands-on fun at our next Family Friday! This time\, we’re exploring the life cycle of plants—from tiny seeds to blooming flowers! Kids and parents will get to plant their own seeds and learn all about how plants grow.\n\n\n\nCome ready to get your hands a little dirty as we discover the magic of plant life together! No registration needed—just bring your curiosity and join the fun!
URL:https://spls.lib.ok.us/event/family-friday-4-p-m-11/
CATEGORIES:Ages 8-18,Family
END:VEVENT
END:VCALENDAR