BEGIN:VCALENDAR
VERSION:2.0
PRODID:-//Southern Prairie Library - ECPv6.15.14//NONSGML v1.0//EN
CALSCALE:GREGORIAN
METHOD:PUBLISH
X-ORIGINAL-URL:https://spls.lib.ok.us
X-WR-CALDESC:Events for Southern Prairie Library
REFRESH-INTERVAL;VALUE=DURATION:PT1H
X-Robots-Tag:noindex
X-PUBLISHED-TTL:PT1H
BEGIN:VTIMEZONE
TZID:America/Chicago
BEGIN:DAYLIGHT
TZOFFSETFROM:-0600
TZOFFSETTO:-0500
TZNAME:CDT
DTSTART:20210314T080000
END:DAYLIGHT
BEGIN:STANDARD
TZOFFSETFROM:-0500
TZOFFSETTO:-0600
TZNAME:CST
DTSTART:20211107T070000
END:STANDARD
BEGIN:DAYLIGHT
TZOFFSETFROM:-0600
TZOFFSETTO:-0500
TZNAME:CDT
DTSTART:20220313T080000
END:DAYLIGHT
BEGIN:STANDARD
TZOFFSETFROM:-0500
TZOFFSETTO:-0600
TZNAME:CST
DTSTART:20221106T070000
END:STANDARD
BEGIN:DAYLIGHT
TZOFFSETFROM:-0600
TZOFFSETTO:-0500
TZNAME:CDT
DTSTART:20230312T080000
END:DAYLIGHT
BEGIN:STANDARD
TZOFFSETFROM:-0500
TZOFFSETTO:-0600
TZNAME:CST
DTSTART:20231105T070000
END:STANDARD
END:VTIMEZONE
BEGIN:VEVENT
DTSTART;TZID=America/Chicago:20221220T160000
DTEND;TZID=America/Chicago:20221220T170000
DTSTAMP:20260419T153508
CREATED:20221123T210217Z
LAST-MODIFIED:20221123T210217Z
UID:5413-1671552000-1671555600@spls.lib.ok.us
SUMMARY:Teen Tuesday @ 4 p.m.
DESCRIPTION:Teens aged 13-18 are invited to come to a Christmas cookie decorating party! We’ll have music\, fun\, and of course cookies. This event is free\, but please call 580-477-2890 to register.
URL:https://spls.lib.ok.us/event/teen-tuesday-4-p-m/
CATEGORIES:Ages 13-18
ATTACH;FMTTYPE=image/png:https://spls.lib.ok.us/wp-content/uploads/2022/11/Teen-Tuesday-Cookie-Decor-100-×-100-px.png
END:VEVENT
END:VCALENDAR