BEGIN:VCALENDAR
VERSION:2.0
PRODID:-//Southern Prairie Library - ECPv6.15.14//NONSGML v1.0//EN
CALSCALE:GREGORIAN
METHOD:PUBLISH
X-ORIGINAL-URL:https://spls.lib.ok.us
X-WR-CALDESC:Events for Southern Prairie Library
REFRESH-INTERVAL;VALUE=DURATION:PT1H
X-Robots-Tag:noindex
X-PUBLISHED-TTL:PT1H
BEGIN:VTIMEZONE
TZID:America/Chicago
BEGIN:DAYLIGHT
TZOFFSETFROM:-0600
TZOFFSETTO:-0500
TZNAME:CDT
DTSTART:20210314T080000
END:DAYLIGHT
BEGIN:STANDARD
TZOFFSETFROM:-0500
TZOFFSETTO:-0600
TZNAME:CST
DTSTART:20211107T070000
END:STANDARD
BEGIN:DAYLIGHT
TZOFFSETFROM:-0600
TZOFFSETTO:-0500
TZNAME:CDT
DTSTART:20220313T080000
END:DAYLIGHT
BEGIN:STANDARD
TZOFFSETFROM:-0500
TZOFFSETTO:-0600
TZNAME:CST
DTSTART:20221106T070000
END:STANDARD
BEGIN:DAYLIGHT
TZOFFSETFROM:-0600
TZOFFSETTO:-0500
TZNAME:CDT
DTSTART:20230312T080000
END:DAYLIGHT
BEGIN:STANDARD
TZOFFSETFROM:-0500
TZOFFSETTO:-0600
TZNAME:CST
DTSTART:20231105T070000
END:STANDARD
END:VTIMEZONE
BEGIN:VEVENT
DTSTART;TZID=America/Chicago:20220425T160000
DTEND;TZID=America/Chicago:20220428T180000
DTSTAMP:20260420T083407
CREATED:20220208T213913Z
LAST-MODIFIED:20220401T201508Z
UID:4242-1650902400-1651168800@spls.lib.ok.us
SUMMARY:Mural Painting Workshop for Teens @ 4-6 p.m. FREE
DESCRIPTION:Shortgrass Art Institute Winter/Spring 2022\nThis workshop will meet\n\n\nMonday through Thursday\, April 25th – 28th.\n\n\n4 – 6 p.m.\n\n\nFree at the library: call 580-477-2890\n\n\nClasses are open to all levels of experience\n\n\nFor adults and students ages 16 & up unless otherwise noted\n\n\nPre-registration is required and closes 5 days before the class begins\n\n\nClasses are limited to 10 students. We must have at least 3 students in order to hold class\n\n\nCOVID-19 Safety Protocols will be observed.
URL:https://spls.lib.ok.us/event/mural-painting-workshop-for-teens-2-4-pm-free/
CATEGORIES:Ages 13-18
END:VEVENT
END:VCALENDAR