BEGIN:VCALENDAR
VERSION:2.0
PRODID:-//Southern Prairie Library - ECPv6.15.14//NONSGML v1.0//EN
CALSCALE:GREGORIAN
METHOD:PUBLISH
X-ORIGINAL-URL:https://spls.lib.ok.us
X-WR-CALDESC:Events for Southern Prairie Library
REFRESH-INTERVAL;VALUE=DURATION:PT1H
X-Robots-Tag:noindex
X-PUBLISHED-TTL:PT1H
BEGIN:VTIMEZONE
TZID:America/Chicago
BEGIN:DAYLIGHT
TZOFFSETFROM:-0600
TZOFFSETTO:-0500
TZNAME:CDT
DTSTART:20240310T080000
END:DAYLIGHT
BEGIN:STANDARD
TZOFFSETFROM:-0500
TZOFFSETTO:-0600
TZNAME:CST
DTSTART:20241103T070000
END:STANDARD
BEGIN:DAYLIGHT
TZOFFSETFROM:-0600
TZOFFSETTO:-0500
TZNAME:CDT
DTSTART:20250309T080000
END:DAYLIGHT
BEGIN:STANDARD
TZOFFSETFROM:-0500
TZOFFSETTO:-0600
TZNAME:CST
DTSTART:20251102T070000
END:STANDARD
BEGIN:DAYLIGHT
TZOFFSETFROM:-0600
TZOFFSETTO:-0500
TZNAME:CDT
DTSTART:20260308T080000
END:DAYLIGHT
BEGIN:STANDARD
TZOFFSETFROM:-0500
TZOFFSETTO:-0600
TZNAME:CST
DTSTART:20261101T070000
END:STANDARD
END:VTIMEZONE
BEGIN:VEVENT
DTSTART;TZID=America/Chicago:20250916T160000
DTEND;TZID=America/Chicago:20250916T170000
DTSTAMP:20260421T004906
CREATED:20250826T204659Z
LAST-MODIFIED:20250903T200831Z
UID:9146-1758038400-1758042000@spls.lib.ok.us
SUMMARY:Teen Tuesday @ 4 p.m.
DESCRIPTION:Teen Tuesday Presents: Calming Coloring! \nWe know that back to school can be stressful\, so join us for an hour and a half of calm coloring time! We’ll have coloring sheets and colored pencils available\, so all you have to do is bring your smiling self! \nTuesday\, September 16th starting at 4 PM at the Altus Public Library!
URL:https://spls.lib.ok.us/event/teen-tuesday-4-p-m-7/
CATEGORIES:Ages 13-18
END:VEVENT
BEGIN:VEVENT
DTSTART;TZID=America/Chicago:20251021T160000
DTEND;TZID=America/Chicago:20251021T170000
DTSTAMP:20260421T004906
CREATED:20250929T170405Z
LAST-MODIFIED:20250929T170405Z
UID:9285-1761062400-1761066000@spls.lib.ok.us
SUMMARY:Teen Tuesday @ 4 p.m.
DESCRIPTION:Teen Tuesday Presents: Roll for a Monster! \nTuesday\, October 21st from 4 PM – 5 PM \nLet the dice decide how your spooky monster will look! Will they have three eyes? Four mouths? Ten horns? Come join us and see what happens! \nAltus Public Library – 421 N. Hudson\n(580) 477-2890
URL:https://spls.lib.ok.us/event/teen-tuesday-4-p-m-8/
CATEGORIES:Ages 13-18
END:VEVENT
BEGIN:VEVENT
DTSTART;TZID=America/Chicago:20251216T160000
DTEND;TZID=America/Chicago:20251216T180000
DTSTAMP:20260421T004906
CREATED:20251202T201439Z
LAST-MODIFIED:20251202T201439Z
UID:9550-1765900800-1765908000@spls.lib.ok.us
SUMMARY:Teen Tuesday @ 4 p.m.
DESCRIPTION:Teen Tuesday Presents: Movie & Cocoa! \nJoin us December 16th at 4 p.m. at the Altus Public Library for a showing of the hit Christmas movie “The Polar Express”! \nWe’ll have hot chocolate and cookies for teens to enjoy while they watch this cozy movie to get into the holiday spirit!
URL:https://spls.lib.ok.us/event/teen-tuesday-4-p-m-10/
CATEGORIES:Ages 13-18
END:VEVENT
END:VCALENDAR