BEGIN:VCALENDAR
VERSION:2.0
PRODID:-//Southern Prairie Library - ECPv6.15.14//NONSGML v1.0//EN
CALSCALE:GREGORIAN
METHOD:PUBLISH
X-WR-CALNAME:Southern Prairie Library
X-ORIGINAL-URL:https://spls.lib.ok.us
X-WR-CALDESC:Events for Southern Prairie Library
REFRESH-INTERVAL;VALUE=DURATION:PT1H
X-Robots-Tag:noindex
X-PUBLISHED-TTL:PT1H
BEGIN:VTIMEZONE
TZID:America/Chicago
BEGIN:DAYLIGHT
TZOFFSETFROM:-0600
TZOFFSETTO:-0500
TZNAME:CDT
DTSTART:20250309T080000
END:DAYLIGHT
BEGIN:STANDARD
TZOFFSETFROM:-0500
TZOFFSETTO:-0600
TZNAME:CST
DTSTART:20251102T070000
END:STANDARD
BEGIN:DAYLIGHT
TZOFFSETFROM:-0600
TZOFFSETTO:-0500
TZNAME:CDT
DTSTART:20260308T080000
END:DAYLIGHT
BEGIN:STANDARD
TZOFFSETFROM:-0500
TZOFFSETTO:-0600
TZNAME:CST
DTSTART:20261101T070000
END:STANDARD
BEGIN:DAYLIGHT
TZOFFSETFROM:-0600
TZOFFSETTO:-0500
TZNAME:CDT
DTSTART:20270314T080000
END:DAYLIGHT
BEGIN:STANDARD
TZOFFSETFROM:-0500
TZOFFSETTO:-0600
TZNAME:CST
DTSTART:20271107T070000
END:STANDARD
END:VTIMEZONE
BEGIN:VEVENT
DTSTART;TZID=America/Chicago:20260105T110000
DTEND;TZID=America/Chicago:20260105T130000
DTSTAMP:20260421T170448
CREATED:20260102T212216Z
LAST-MODIFIED:20260102T213018Z
UID:9608-1767610800-1767618000@spls.lib.ok.us
SUMMARY:Silent Book Club @ 11 a.m.
DESCRIPTION:Silent Book Club is back at Altus Public Library! \nLooking for some uninterrupted reading time? Join us for Silent Book Club—a relaxed\, pressure-free book club where everyone reads their own book at their own pace. \n-Bring your current read\, a book from your TBR\, or grab something from our shelves.\n-Settle in and enjoy two quiet\, uninterrupted hours of reading. \nMonday\, January 5th\n11:00 AM – 1:00 PM\nAltus Public Library | 421 N Hudson St. \nNo assigned reading. No discussion required. Just reading.
URL:https://spls.lib.ok.us/event/silent-book-club-11-a-m-4/
CATEGORIES:Adults
END:VEVENT
BEGIN:VEVENT
DTSTART;TZID=America/Chicago:20260106T110000
DTEND;TZID=America/Chicago:20260106T120000
DTSTAMP:20260421T170448
CREATED:20250814T145520Z
LAST-MODIFIED:20260330T152640Z
UID:9575-1767697200-1767700800@spls.lib.ok.us
SUMMARY:Chair Yoga @ 11 a.m.
DESCRIPTION:Chair Yoga is taught by licensed instructor Erin Martinez. \nThis free event is held every Tuesday and Thursday from 11 a.m. to 11:45 a.m. at the Altus Public Library. \nYou will learn safe and easy exercises to keep your muscles and joints strong as well as tips on proper breathing. \nFor more information\, or to sign up\, call the Altus Public Library at 580-477-2890.
URL:https://spls.lib.ok.us/event/chair-yoga-11-a-m-78/2026-01-06/
CATEGORIES:Adults,Literacy Event
END:VEVENT
BEGIN:VEVENT
DTSTART;TZID=America/Chicago:20260106T170000
DTEND;TZID=America/Chicago:20260106T180000
DTSTAMP:20260421T170448
CREATED:20260102T211435Z
LAST-MODIFIED:20260102T211435Z
UID:9601-1767718800-1767722400@spls.lib.ok.us
SUMMARY:Ya Ya Yarn @ 5 p.m.
DESCRIPTION:You’re invited to Ya Ya Yarn at the Altus Public Library! \nDo you knit? Crochet? Curious to learn but not sure where to start? Ya Ya Yarn is a relaxed\, welcoming fiber arts group for everyone—from total beginners to experienced crafters. \n-Bring your own project or just come to learn\n-Get help\, share tips\, or work quietly\n-All skill levels welcome \nTuesday\, January 6\, 2026\n5:00–6:00 PM\nAltus Public Library | 421 N Hudson St. \nGrab your yarn and join us—we’d love to have you!
URL:https://spls.lib.ok.us/event/ya-ya-yarn-5-p-m-6/
CATEGORIES:Adults,Family
END:VEVENT
BEGIN:VEVENT
DTSTART;TZID=America/Chicago:20260108T110000
DTEND;TZID=America/Chicago:20260108T120000
DTSTAMP:20260421T170448
CREATED:20250814T145520Z
LAST-MODIFIED:20260330T152640Z
UID:9576-1767870000-1767873600@spls.lib.ok.us
SUMMARY:Chair Yoga @ 11 a.m.
DESCRIPTION:Chair Yoga is taught by licensed instructor Erin Martinez. \nThis free event is held every Tuesday and Thursday from 11 a.m. to 11:45 a.m. at the Altus Public Library. \nYou will learn safe and easy exercises to keep your muscles and joints strong as well as tips on proper breathing. \nFor more information\, or to sign up\, call the Altus Public Library at 580-477-2890.
URL:https://spls.lib.ok.us/event/chair-yoga-11-a-m-78/2026-01-08/
CATEGORIES:Adults,Literacy Event
END:VEVENT
BEGIN:VEVENT
DTSTART;TZID=America/Chicago:20260108T160000
DTEND;TZID=America/Chicago:20260108T170000
DTSTAMP:20260421T170448
CREATED:20250814T142928Z
LAST-MODIFIED:20260330T163936Z
UID:9582-1767888000-1767891600@spls.lib.ok.us
SUMMARY:Zumba Gold @ 4 p.m.
DESCRIPTION:Zumba Gold is taught by licensed instructor Janel Picinich. \nThis free event is held every Thursday from 4 p.m. to 4:45 p.m. at the Altus Public Library. \nThe health benefits of Zumba Gold include a full body workout\, calorie burning\, adaptability of any fitness level\, improved blood pressure\, and building endurance! \nFor more information\, or to sign up\, call the Altus Public Library at 580-477-2890.
URL:https://spls.lib.ok.us/event/zumba-gold-4-p-m-39/2026-01-08/
CATEGORIES:Adults,Literacy Event
END:VEVENT
END:VCALENDAR