BEGIN:VCALENDAR
VERSION:2.0
PRODID:-//Southern Prairie Library - ECPv6.15.14//NONSGML v1.0//EN
CALSCALE:GREGORIAN
METHOD:PUBLISH
X-WR-CALNAME:Southern Prairie Library
X-ORIGINAL-URL:https://spls.lib.ok.us
X-WR-CALDESC:Events for Southern Prairie Library
REFRESH-INTERVAL;VALUE=DURATION:PT1H
X-Robots-Tag:noindex
X-PUBLISHED-TTL:PT1H
BEGIN:VTIMEZONE
TZID:America/Chicago
BEGIN:DAYLIGHT
TZOFFSETFROM:-0600
TZOFFSETTO:-0500
TZNAME:CDT
DTSTART:20240310T080000
END:DAYLIGHT
BEGIN:STANDARD
TZOFFSETFROM:-0500
TZOFFSETTO:-0600
TZNAME:CST
DTSTART:20241103T070000
END:STANDARD
BEGIN:DAYLIGHT
TZOFFSETFROM:-0600
TZOFFSETTO:-0500
TZNAME:CDT
DTSTART:20250309T080000
END:DAYLIGHT
BEGIN:STANDARD
TZOFFSETFROM:-0500
TZOFFSETTO:-0600
TZNAME:CST
DTSTART:20251102T070000
END:STANDARD
BEGIN:DAYLIGHT
TZOFFSETFROM:-0600
TZOFFSETTO:-0500
TZNAME:CDT
DTSTART:20260308T080000
END:DAYLIGHT
BEGIN:STANDARD
TZOFFSETFROM:-0500
TZOFFSETTO:-0600
TZNAME:CST
DTSTART:20261101T070000
END:STANDARD
END:VTIMEZONE
BEGIN:VEVENT
DTSTART;TZID=America/Chicago:20251202T110000
DTEND;TZID=America/Chicago:20251202T120000
DTSTAMP:20260421T170451
CREATED:20250814T145520Z
LAST-MODIFIED:20260330T152639Z
UID:9421-1764673200-1764676800@spls.lib.ok.us
SUMMARY:Chair Yoga @ 11 a.m.
DESCRIPTION:Chair Yoga is taught by licensed instructor Erin Martinez. \nThis free event is held every Tuesday and Thursday from 11 a.m. to 11:45 a.m. at the Altus Public Library. \nYou will learn safe and easy exercises to keep your muscles and joints strong as well as tips on proper breathing. \nFor more information\, or to sign up\, call the Altus Public Library at 580-477-2890.
URL:https://spls.lib.ok.us/event/chair-yoga-11-a-m-78/2025-12-02/
CATEGORIES:Adults,Literacy Event
END:VEVENT
BEGIN:VEVENT
DTSTART;TZID=America/Chicago:20251202T170000
DTEND;TZID=America/Chicago:20251202T180000
DTSTAMP:20260421T170451
CREATED:20251202T185022Z
LAST-MODIFIED:20251202T200912Z
UID:9468-1764694800-1764698400@spls.lib.ok.us
SUMMARY:Ya Ya Yarn @ 5 p.m.
DESCRIPTION:Ya Ya Yarn meets this evening at 5 P.M. \nBring your yarn\, your hooks or needles\, your questions\, or simply your curiosity — all skill levels are welcome. Come enjoy a relaxing morning of crafting and community at the Altus Public Library.
URL:https://spls.lib.ok.us/event/ya-ya-yarn-5-p-m-5/
CATEGORIES:Adults,Family
END:VEVENT
BEGIN:VEVENT
DTSTART;TZID=America/Chicago:20251203T100000
DTEND;TZID=America/Chicago:20251203T110000
DTSTAMP:20260421T170451
CREATED:20251202T185412Z
LAST-MODIFIED:20251202T232811Z
UID:9473-1764756000-1764759600@spls.lib.ok.us
SUMMARY:Coffee Cup @ 10 a.m.
DESCRIPTION:We have had to make some changes to our Coffee Cup program tomorrow. We will welcome Opal Norris to the library. She will be giving a presentation about composer and jazz musician\, Alfred Burt. He is well known for his Christmas carols. Donna Tucker will be playing some of Burt’s compositions on the piano with Leah Nellis providing vocals! It will be a wonderful way to start the Christmas season! We hope you will join us!
URL:https://spls.lib.ok.us/event/coffee-cup-10-a-m-w-kathy-bayers/
CATEGORIES:Adults
END:VEVENT
BEGIN:VEVENT
DTSTART;TZID=America/Chicago:20251204T110000
DTEND;TZID=America/Chicago:20251204T120000
DTSTAMP:20260421T170451
CREATED:20250814T145520Z
LAST-MODIFIED:20260330T152639Z
UID:9432-1764846000-1764849600@spls.lib.ok.us
SUMMARY:Chair Yoga @ 11 a.m.
DESCRIPTION:Chair Yoga is taught by licensed instructor Erin Martinez. \nThis free event is held every Tuesday and Thursday from 11 a.m. to 11:45 a.m. at the Altus Public Library. \nYou will learn safe and easy exercises to keep your muscles and joints strong as well as tips on proper breathing. \nFor more information\, or to sign up\, call the Altus Public Library at 580-477-2890.
URL:https://spls.lib.ok.us/event/chair-yoga-11-a-m-78/2025-12-04/
CATEGORIES:Adults,Literacy Event
END:VEVENT
BEGIN:VEVENT
DTSTART;TZID=America/Chicago:20251204T160000
DTEND;TZID=America/Chicago:20251204T170000
DTSTAMP:20260421T170451
CREATED:20250814T142928Z
LAST-MODIFIED:20260330T163936Z
UID:9440-1764864000-1764867600@spls.lib.ok.us
SUMMARY:Zumba Gold @ 4 p.m.
DESCRIPTION:Zumba Gold is taught by licensed instructor Janel Picinich. \nThis free event is held every Thursday from 4 p.m. to 4:45 p.m. at the Altus Public Library. \nThe health benefits of Zumba Gold include a full body workout\, calorie burning\, adaptability of any fitness level\, improved blood pressure\, and building endurance! \nFor more information\, or to sign up\, call the Altus Public Library at 580-477-2890.
URL:https://spls.lib.ok.us/event/zumba-gold-4-p-m-39/2025-12-04/
CATEGORIES:Adults,Literacy Event
END:VEVENT
END:VCALENDAR