BEGIN:VCALENDAR
VERSION:2.0
PRODID:-//Southern Prairie Library - ECPv6.15.14//NONSGML v1.0//EN
CALSCALE:GREGORIAN
METHOD:PUBLISH
X-ORIGINAL-URL:https://spls.lib.ok.us
X-WR-CALDESC:Events for Southern Prairie Library
REFRESH-INTERVAL;VALUE=DURATION:PT1H
X-Robots-Tag:noindex
X-PUBLISHED-TTL:PT1H
BEGIN:VTIMEZONE
TZID:America/Chicago
BEGIN:DAYLIGHT
TZOFFSETFROM:-0600
TZOFFSETTO:-0500
TZNAME:CDT
DTSTART:20240310T080000
END:DAYLIGHT
BEGIN:STANDARD
TZOFFSETFROM:-0500
TZOFFSETTO:-0600
TZNAME:CST
DTSTART:20241103T070000
END:STANDARD
BEGIN:DAYLIGHT
TZOFFSETFROM:-0600
TZOFFSETTO:-0500
TZNAME:CDT
DTSTART:20250309T080000
END:DAYLIGHT
BEGIN:STANDARD
TZOFFSETFROM:-0500
TZOFFSETTO:-0600
TZNAME:CST
DTSTART:20251102T070000
END:STANDARD
BEGIN:DAYLIGHT
TZOFFSETFROM:-0600
TZOFFSETTO:-0500
TZNAME:CDT
DTSTART:20260308T080000
END:DAYLIGHT
BEGIN:STANDARD
TZOFFSETFROM:-0500
TZOFFSETTO:-0600
TZNAME:CST
DTSTART:20261101T070000
END:STANDARD
END:VTIMEZONE
BEGIN:VEVENT
DTSTART;TZID=America/Chicago:20250701T110000
DTEND;TZID=America/Chicago:20250701T120000
DTSTAMP:20260422T052029
CREATED:20250707T204934Z
LAST-MODIFIED:20250707T205114Z
UID:8963-1751367600-1751371200@spls.lib.ok.us
SUMMARY:Chair Yoga @ 11 a.m.
DESCRIPTION:Chair Yoga is taught by licensed instructor Erin Martinez. \nThis free event is held every Tuesday and Thursday from 11 a.m. to 11:45 a.m. at the Altus Public Library. \nYou will learn safe and easy exercises to keep your muscles and joints strong as well as tips on proper breathing. \nFor more information\, or to sign up\, call the Altus Public Library at 580-477-2890.
URL:https://spls.lib.ok.us/event/chair-yoga-11-a-m-68/
CATEGORIES:Adults,Literacy Event
END:VEVENT
BEGIN:VEVENT
DTSTART;TZID=America/Chicago:20250701T180000
DTEND;TZID=America/Chicago:20250701T190000
DTSTAMP:20260422T052029
CREATED:20250707T202059Z
LAST-MODIFIED:20250707T202059Z
UID:8901-1751392800-1751396400@spls.lib.ok.us
SUMMARY:Ya Ya Yarn @ 6 p.m.
DESCRIPTION:Join the Ya Ya Yarn Crew!\n\n\n\nCalling all yarn lovers! Whether you knit\, crochet\, loom\, or just love a good tangle of thread — our Ya Ya Yarn group is the perfect place to connect\, create\, and unwind.\n\n\n\n\n\nBring your current project or start something new. All skill levels are welcome — from total beginner to yarn wizard!\n\n\n\nLet’s stitch\, chat\, and craft some cozy community together.
URL:https://spls.lib.ok.us/event/ya-ya-yarn-6-p-m-13/
CATEGORIES:Adults,Family
END:VEVENT
BEGIN:VEVENT
DTSTART;TZID=America/Chicago:20250703T110000
DTEND;TZID=America/Chicago:20250703T120000
DTSTAMP:20260422T052029
CREATED:20250707T205338Z
LAST-MODIFIED:20250707T205338Z
UID:8975-1751540400-1751544000@spls.lib.ok.us
SUMMARY:Chair Yoga @ 11 a.m.
DESCRIPTION:Chair Yoga is taught by licensed instructor Erin Martinez. \nThis free event is held every Tuesday and Thursday from 11 a.m. to 11:45 a.m. at the Altus Public Library. \nYou will learn safe and easy exercises to keep your muscles and joints strong as well as tips on proper breathing. \nFor more information\, or to sign up\, call the Altus Public Library at 580-477-2890.
URL:https://spls.lib.ok.us/event/chair-yoga-11-a-m-73/
CATEGORIES:Adults,Literacy Event
END:VEVENT
BEGIN:VEVENT
DTSTART;TZID=America/Chicago:20250703T160000
DTEND;TZID=America/Chicago:20250703T170000
DTSTAMP:20260422T052029
CREATED:20250707T205656Z
LAST-MODIFIED:20250814T145859Z
UID:8985-1751558400-1751562000@spls.lib.ok.us
SUMMARY:Zumba Gold @ 4 p.m.
DESCRIPTION:Zumba Gold is taught by licensed instructor Janel Picinich. \nThis free event is held every Thursday from 4 p.m. to 4:45 p.m. at the Altus Public Library. \nThe health benefits of Zumba Gold include a full body workout\, calorie burning\, adaptability of any fitness level\, improved blood pressure\, and building endurance! \nFor more information\, or to sign up\, call the Altus Public Library at 580-477-2890.
URL:https://spls.lib.ok.us/event/zumba-gold-4-p-m-34/
CATEGORIES:Adults,Literacy Event
END:VEVENT
BEGIN:VEVENT
DTSTART;VALUE=DATE:20250704
DTEND;VALUE=DATE:20250705
DTSTAMP:20260422T052029
CREATED:20250707T204738Z
LAST-MODIFIED:20250707T204738Z
UID:8961-1751587200-1751673599@spls.lib.ok.us
SUMMARY:Closed - 4th of July
DESCRIPTION:
URL:https://spls.lib.ok.us/event/closed-4th-of-july-2/
CATEGORIES:Adults,Family
END:VEVENT
END:VCALENDAR