BEGIN:VCALENDAR
VERSION:2.0
PRODID:-//Southern Prairie Library - ECPv6.15.14//NONSGML v1.0//EN
CALSCALE:GREGORIAN
METHOD:PUBLISH
X-ORIGINAL-URL:https://spls.lib.ok.us
X-WR-CALDESC:Events for Southern Prairie Library
REFRESH-INTERVAL;VALUE=DURATION:PT1H
X-Robots-Tag:noindex
X-PUBLISHED-TTL:PT1H
BEGIN:VTIMEZONE
TZID:America/Chicago
BEGIN:DAYLIGHT
TZOFFSETFROM:-0600
TZOFFSETTO:-0500
TZNAME:CDT
DTSTART:20240310T080000
END:DAYLIGHT
BEGIN:STANDARD
TZOFFSETFROM:-0500
TZOFFSETTO:-0600
TZNAME:CST
DTSTART:20241103T070000
END:STANDARD
BEGIN:DAYLIGHT
TZOFFSETFROM:-0600
TZOFFSETTO:-0500
TZNAME:CDT
DTSTART:20250309T080000
END:DAYLIGHT
BEGIN:STANDARD
TZOFFSETFROM:-0500
TZOFFSETTO:-0600
TZNAME:CST
DTSTART:20251102T070000
END:STANDARD
BEGIN:DAYLIGHT
TZOFFSETFROM:-0600
TZOFFSETTO:-0500
TZNAME:CDT
DTSTART:20260308T080000
END:DAYLIGHT
BEGIN:STANDARD
TZOFFSETFROM:-0500
TZOFFSETTO:-0600
TZNAME:CST
DTSTART:20261101T070000
END:STANDARD
END:VTIMEZONE
BEGIN:VEVENT
DTSTART;TZID=America/Chicago:20250616T120000
DTEND;TZID=America/Chicago:20250616T133000
DTSTAMP:20260422T063633
CREATED:20250605T160519Z
LAST-MODIFIED:20250605T160519Z
UID:8823-1750075200-1750080600@spls.lib.ok.us
SUMMARY:Jackson County Health Department Community Outreach @ 12 p.m.
DESCRIPTION:Do you have questions about food assistance\, insurance\, local services or specialized help? Thanks to a partnership with the District 5 Southwest Oklahoma County Health Departments\, help is available!  \nA Community Health Worker (CHW) can help you navigate your unique situation. Stop by the Altus Public Library\, 421 N. Hudson\, from 12:00 to 1:30 PM TODAY! There will be a CHW here to help you find the right solutions to your specific needs.  \nThis program is FREE and open to the public! Come see us!
URL:https://spls.lib.ok.us/event/jackson-county-health-department-community-outreach-12-p-m-2/
CATEGORIES:Adults,Family
END:VEVENT
BEGIN:VEVENT
DTSTART;TZID=America/Chicago:20250617T110000
DTEND;TZID=America/Chicago:20250617T120000
DTSTAMP:20260422T063633
CREATED:20250605T145138Z
LAST-MODIFIED:20250605T145138Z
UID:8782-1750158000-1750161600@spls.lib.ok.us
SUMMARY:Chair Yoga @ 11 a.m.
DESCRIPTION:Chair Yoga is taught by licensed instructor Erin Martinez. \nThis free event is held every Tuesday and Thursday from 11 a.m. to 11:45 a.m. at the Altus Public Library. \nYou will learn safe and easy exercises to keep your muscles and joints strong as well as tips on proper breathing. \nFor more information\, or to sign up\, call the Altus Public Library at 580-477-2890.
URL:https://spls.lib.ok.us/event/chair-yoga-11-a-m-65/
CATEGORIES:Adults,Literacy Event
END:VEVENT
BEGIN:VEVENT
DTSTART;TZID=America/Chicago:20250620T110000
DTEND;TZID=America/Chicago:20250620T120000
DTSTAMP:20260422T063633
CREATED:20250605T143348Z
LAST-MODIFIED:20250605T143348Z
UID:8760-1750417200-1750420800@spls.lib.ok.us
SUMMARY:Ya Ya Yarn @ 11 a.m.
DESCRIPTION:Join the Ya Ya Yarn Crew!\n\n\n\nCalling all yarn lovers! Whether you knit\, crochet\, loom\, or just love a good tangle of thread — our Ya Ya Yarn group is the perfect place to connect\, create\, and unwind.\n\n\n\n\n\nBring your current project or start something new. All skill levels are welcome — from total beginner to yarn wizard!\n\n\n\nLet’s stitch\, chat\, and craft some cozy community together.
URL:https://spls.lib.ok.us/event/ya-ya-yarn-11-a-m-22/
CATEGORIES:Adults,Family
END:VEVENT
END:VCALENDAR