BEGIN:VCALENDAR
VERSION:2.0
PRODID:-//Southern Prairie Library - ECPv6.15.14//NONSGML v1.0//EN
CALSCALE:GREGORIAN
METHOD:PUBLISH
X-ORIGINAL-URL:https://spls.lib.ok.us
X-WR-CALDESC:Events for Southern Prairie Library
REFRESH-INTERVAL;VALUE=DURATION:PT1H
X-Robots-Tag:noindex
X-PUBLISHED-TTL:PT1H
BEGIN:VTIMEZONE
TZID:America/Chicago
BEGIN:DAYLIGHT
TZOFFSETFROM:-0600
TZOFFSETTO:-0500
TZNAME:CDT
DTSTART:20240310T080000
END:DAYLIGHT
BEGIN:STANDARD
TZOFFSETFROM:-0500
TZOFFSETTO:-0600
TZNAME:CST
DTSTART:20241103T070000
END:STANDARD
BEGIN:DAYLIGHT
TZOFFSETFROM:-0600
TZOFFSETTO:-0500
TZNAME:CDT
DTSTART:20250309T080000
END:DAYLIGHT
BEGIN:STANDARD
TZOFFSETFROM:-0500
TZOFFSETTO:-0600
TZNAME:CST
DTSTART:20251102T070000
END:STANDARD
BEGIN:DAYLIGHT
TZOFFSETFROM:-0600
TZOFFSETTO:-0500
TZNAME:CDT
DTSTART:20260308T080000
END:DAYLIGHT
BEGIN:STANDARD
TZOFFSETFROM:-0500
TZOFFSETTO:-0600
TZNAME:CST
DTSTART:20261101T070000
END:STANDARD
END:VTIMEZONE
BEGIN:VEVENT
DTSTART;TZID=America/Chicago:20250421T180000
DTEND;TZID=America/Chicago:20250421T200000
DTSTAMP:20260422T235240
CREATED:20250415T191320Z
LAST-MODIFIED:20250415T191320Z
UID:8607-1745258400-1745265600@spls.lib.ok.us
SUMMARY:Plein Air Painting @ 6 p.m.
DESCRIPTION:Classes are held at the Altus Public Library (421 N. Hudson) from 6 p.m.-8 p.m. Pre-registration and payment required. Registration closes 5 days before class begins. Class size is limited. \nRegister and make payment in person at the Altus Public Library\, 421 N. Hudson\, or register by phone at 580-477-2890. Class fees are $35 per session. \nClasses are open to all experience levels and are for adults and students ages 16 years and older. \nFor more information\, please contact the Altus Public Library at 580-477-2890.
URL:https://spls.lib.ok.us/event/plein-air-painting-6-p-m/
CATEGORIES:16 & up,Adults
END:VEVENT
BEGIN:VEVENT
DTSTART;TZID=America/Chicago:20250422T110000
DTEND;TZID=America/Chicago:20250422T120000
DTSTAMP:20260422T235240
CREATED:20250407T144724Z
LAST-MODIFIED:20250407T144724Z
UID:8574-1745319600-1745323200@spls.lib.ok.us
SUMMARY:Chair Yoga @ 11 a.m.
DESCRIPTION:Chair Yoga is taught by licensed instructor Erin Martinez. \nThis free event is held every Tuesday and Thursday from 11 a.m. to 11:45 a.m. at the Altus Public Library. \nYou will learn safe and easy exercises to keep your muscles and joints strong as well as tips on proper breathing. \nFor more information\, or to sign up\, call the Altus Public Library at 580-477-2890.
URL:https://spls.lib.ok.us/event/chair-yoga-11-a-m-49/
CATEGORIES:Adults,Literacy Event
END:VEVENT
BEGIN:VEVENT
DTSTART;TZID=America/Chicago:20250422T180000
DTEND;TZID=America/Chicago:20250422T200000
DTSTAMP:20260422T235240
CREATED:20250415T191447Z
LAST-MODIFIED:20250415T191447Z
UID:8609-1745344800-1745352000@spls.lib.ok.us
SUMMARY:Plein Air Painting @ 6 p.m.
DESCRIPTION:Classes are held at the Altus Public Library (421 N. Hudson) from 6 p.m.-8 p.m. Pre-registration and payment required. Registration closes 5 days before class begins. Class size is limited. \nRegister and make payment in person at the Altus Public Library\, 421 N. Hudson\, or register by phone at 580-477-2890. Class fees are $35 per session. \nClasses are open to all experience levels and are for adults and students ages 16 years and older. \nFor more information\, please contact the Altus Public Library at 580-477-2890.
URL:https://spls.lib.ok.us/event/plein-air-painting-6-p-m-2/
CATEGORIES:16 & up,Adults
END:VEVENT
BEGIN:VEVENT
DTSTART;TZID=America/Chicago:20250423T180000
DTEND;TZID=America/Chicago:20250423T200000
DTSTAMP:20260422T235240
CREATED:20250415T191521Z
LAST-MODIFIED:20250415T191521Z
UID:8611-1745431200-1745438400@spls.lib.ok.us
SUMMARY:Plein Air Painting @ 6 p.m.
DESCRIPTION:Classes are held at the Altus Public Library (421 N. Hudson) from 6 p.m.-8 p.m. Pre-registration and payment required. Registration closes 5 days before class begins. Class size is limited. \nRegister and make payment in person at the Altus Public Library\, 421 N. Hudson\, or register by phone at 580-477-2890. Class fees are $35 per session. \nClasses are open to all experience levels and are for adults and students ages 16 years and older. \nFor more information\, please contact the Altus Public Library at 580-477-2890.
URL:https://spls.lib.ok.us/event/plein-air-painting-6-p-m-3/
CATEGORIES:16 & up,Adults
END:VEVENT
BEGIN:VEVENT
DTSTART;TZID=America/Chicago:20250424T110000
DTEND;TZID=America/Chicago:20250424T120000
DTSTAMP:20260422T235240
CREATED:20250407T144814Z
LAST-MODIFIED:20250407T144814Z
UID:8576-1745492400-1745496000@spls.lib.ok.us
SUMMARY:Chair Yoga @ 11 a.m.
DESCRIPTION:Chair Yoga is taught by licensed instructor Erin Martinez. \nThis free event is held every Tuesday and Thursday from 11 a.m. to 11:45 a.m. at the Altus Public Library. \nYou will learn safe and easy exercises to keep your muscles and joints strong as well as tips on proper breathing. \nFor more information\, or to sign up\, call the Altus Public Library at 580-477-2890.
URL:https://spls.lib.ok.us/event/chair-yoga-11-a-m-50/
CATEGORIES:Adults,Literacy Event
END:VEVENT
BEGIN:VEVENT
DTSTART;TZID=America/Chicago:20250424T160000
DTEND;TZID=America/Chicago:20250424T170000
DTSTAMP:20260422T235240
CREATED:20250407T145210Z
LAST-MODIFIED:20250407T145210Z
UID:8586-1745510400-1745514000@spls.lib.ok.us
SUMMARY:Zumba Gold @ 4 p.m.
DESCRIPTION:Zumba Gold is taught by licensed instructor Janel Picinich. \nThis free event is held every Thursday from 4 p.m. to 4:45 p.m. at the Altus Public Library. \nThe health benefits of Zumba Gold include a full body workout\, calorie burning\, adaptability of any fitness level\, improved blood pressure\, and building endurance! \nFor more information\, or to sign up\, call the Altus Public Library at 580-477-2890.
URL:https://spls.lib.ok.us/event/zumba-gold-4-p-m-25/
CATEGORIES:Adults,Literacy Event
END:VEVENT
BEGIN:VEVENT
DTSTART;TZID=America/Chicago:20250424T180000
DTEND;TZID=America/Chicago:20250424T200000
DTSTAMP:20260422T235240
CREATED:20250415T191600Z
LAST-MODIFIED:20250415T191600Z
UID:8613-1745517600-1745524800@spls.lib.ok.us
SUMMARY:Plein Air Painting @ 6 p.m.
DESCRIPTION:Classes are held at the Altus Public Library (421 N. Hudson) from 6 p.m.-8 p.m. Pre-registration and payment required. Registration closes 5 days before class begins. Class size is limited. \nRegister and make payment in person at the Altus Public Library\, 421 N. Hudson\, or register by phone at 580-477-2890. Class fees are $35 per session. \nClasses are open to all experience levels and are for adults and students ages 16 years and older. \nFor more information\, please contact the Altus Public Library at 580-477-2890.
URL:https://spls.lib.ok.us/event/plein-air-painting-6-p-m-4/
CATEGORIES:16 & up,Adults
END:VEVENT
BEGIN:VEVENT
DTSTART;TZID=America/Chicago:20250425T110000
DTEND;TZID=America/Chicago:20250425T120000
DTSTAMP:20260422T235240
CREATED:20250404T143807Z
LAST-MODIFIED:20250404T143807Z
UID:8542-1745578800-1745582400@spls.lib.ok.us
SUMMARY:Ya Ya Yarn @ 11 a.m.
DESCRIPTION:Do you love yarn? Want to learn how to crochet or knit? Or maybe you just want to hang out with fellow yarn enthusiasts? Ya Ya Yarn is the perfect place for you!\n\n\n\n\n\nWhether you’re a total beginner or a seasoned pro\, come join us for a fun and relaxing time. We’ll provide the yarn and crochet hooks\, and a staff member will be there to help if you want to learn. Just bring yourself and your love for all things cozy!\n\n\nNo registration required—just drop in and stitch away!
URL:https://spls.lib.ok.us/event/ya-ya-yarn-11-a-m-20/
CATEGORIES:Adults,Family
END:VEVENT
END:VCALENDAR