BEGIN:VCALENDAR
VERSION:2.0
PRODID:-//Southern Prairie Library - ECPv6.15.14//NONSGML v1.0//EN
CALSCALE:GREGORIAN
METHOD:PUBLISH
X-ORIGINAL-URL:https://spls.lib.ok.us
X-WR-CALDESC:Events for Southern Prairie Library
REFRESH-INTERVAL;VALUE=DURATION:PT1H
X-Robots-Tag:noindex
X-PUBLISHED-TTL:PT1H
BEGIN:VTIMEZONE
TZID:America/Chicago
BEGIN:DAYLIGHT
TZOFFSETFROM:-0600
TZOFFSETTO:-0500
TZNAME:CDT
DTSTART:20240310T080000
END:DAYLIGHT
BEGIN:STANDARD
TZOFFSETFROM:-0500
TZOFFSETTO:-0600
TZNAME:CST
DTSTART:20241103T070000
END:STANDARD
BEGIN:DAYLIGHT
TZOFFSETFROM:-0600
TZOFFSETTO:-0500
TZNAME:CDT
DTSTART:20250309T080000
END:DAYLIGHT
BEGIN:STANDARD
TZOFFSETFROM:-0500
TZOFFSETTO:-0600
TZNAME:CST
DTSTART:20251102T070000
END:STANDARD
BEGIN:DAYLIGHT
TZOFFSETFROM:-0600
TZOFFSETTO:-0500
TZNAME:CDT
DTSTART:20260308T080000
END:DAYLIGHT
BEGIN:STANDARD
TZOFFSETFROM:-0500
TZOFFSETTO:-0600
TZNAME:CST
DTSTART:20261101T070000
END:STANDARD
END:VTIMEZONE
BEGIN:VEVENT
DTSTART;TZID=America/Chicago:20250224T180000
DTEND;TZID=America/Chicago:20250224T200000
DTSTAMP:20260423T044333
CREATED:20250204T151133Z
LAST-MODIFIED:20250204T151133Z
UID:8424-1740420000-1740427200@spls.lib.ok.us
SUMMARY:Oil Painting with Michael Snyder @ 6 p.m.
DESCRIPTION:Classes are held at the Altus Public Library (421 N. Hudson) from 6 p.m.-8 p.m. Pre-registration and payment required. Registration closes 5 days before class begins. Class size is limited. \nRegister and make payment in person at the Altus Public Library\, 421 N. Hudson\, or register by phone at 580-477-2890. Class fees are $35 per session. \nClasses are open to all experience levels and are for adults and students ages 16 years and older. \nFor more information\, please contact the Altus Public Library at 580-477-2890.
URL:https://spls.lib.ok.us/event/oil-painting-with-michael-snyder-6-p-m/
CATEGORIES:16 & up,Adults
END:VEVENT
BEGIN:VEVENT
DTSTART;TZID=America/Chicago:20250225T110000
DTEND;TZID=America/Chicago:20250225T120000
DTSTAMP:20260423T044333
CREATED:20250204T143423Z
LAST-MODIFIED:20250204T143423Z
UID:8387-1740481200-1740484800@spls.lib.ok.us
SUMMARY:Chair Yoga @ 11 a.m.
DESCRIPTION:Chair Yoga is taught by licensed instructor Erin Martinez. \nThis free event is held every Tuesday and Thursday from 11 a.m. to 11:45 a.m. at the Altus Public Library. \nYou will learn safe and easy exercises to keep your muscles and joints strong as well as tips on proper breathing. \nFor more information\, or to sign up\, call the Altus Public Library at 580-477-2890.
URL:https://spls.lib.ok.us/event/chair-yoga-11-a-m-33/
CATEGORIES:Adults,Literacy Event
END:VEVENT
BEGIN:VEVENT
DTSTART;TZID=America/Chicago:20250225T180000
DTEND;TZID=America/Chicago:20250225T200000
DTSTAMP:20260423T044333
CREATED:20250204T151248Z
LAST-MODIFIED:20250204T151248Z
UID:8426-1740506400-1740513600@spls.lib.ok.us
SUMMARY:Oil Painting with Michael Snyder @ 6 p.m.
DESCRIPTION:Classes are held at the Altus Public Library (421 N. Hudson) from 6 p.m.-8 p.m. Pre-registration and payment required. Registration closes 5 days before class begins. Class size is limited. \nRegister and make payment in person at the Altus Public Library\, 421 N. Hudson\, or register by phone at 580-477-2890. Class fees are $35 per session. \nClasses are open to all experience levels and are for adults and students ages 16 years and older. \nFor more information\, please contact the Altus Public Library at 580-477-2890.
URL:https://spls.lib.ok.us/event/oil-painting-with-michael-snyder-6-p-m-2/
CATEGORIES:16 & up,Adults
END:VEVENT
BEGIN:VEVENT
DTSTART;TZID=America/Chicago:20250226T180000
DTEND;TZID=America/Chicago:20250226T200000
DTSTAMP:20260423T044333
CREATED:20250204T151357Z
LAST-MODIFIED:20250204T151357Z
UID:8428-1740592800-1740600000@spls.lib.ok.us
SUMMARY:Oil Painting with Michael Snyder @ 6 p.m.
DESCRIPTION:Classes are held at the Altus Public Library (421 N. Hudson) from 6 p.m.-8 p.m. Pre-registration and payment required. Registration closes 5 days before class begins. Class size is limited. \nRegister and make payment in person at the Altus Public Library\, 421 N. Hudson\, or register by phone at 580-477-2890. Class fees are $35 per session. \nClasses are open to all experience levels and are for adults and students ages 16 years and older. \nFor more information\, please contact the Altus Public Library at 580-477-2890.
URL:https://spls.lib.ok.us/event/oil-painting-with-michael-snyder-6-p-m-3/
CATEGORIES:16 & up,Adults
END:VEVENT
BEGIN:VEVENT
DTSTART;TZID=America/Chicago:20250227T110000
DTEND;TZID=America/Chicago:20250227T120000
DTSTAMP:20260423T044333
CREATED:20250204T143523Z
LAST-MODIFIED:20250204T143523Z
UID:8389-1740654000-1740657600@spls.lib.ok.us
SUMMARY:Chair Yoga @ 11 a.m.
DESCRIPTION:Chair Yoga is taught by licensed instructor Erin Martinez. \nThis free event is held every Tuesday and Thursday from 11 a.m. to 11:45 a.m. at the Altus Public Library. \nYou will learn safe and easy exercises to keep your muscles and joints strong as well as tips on proper breathing. \nFor more information\, or to sign up\, call the Altus Public Library at 580-477-2890.
URL:https://spls.lib.ok.us/event/chair-yoga-11-a-m-34/
CATEGORIES:Adults,Literacy Event
END:VEVENT
BEGIN:VEVENT
DTSTART;TZID=America/Chicago:20250227T160000
DTEND;TZID=America/Chicago:20250227T170000
DTSTAMP:20260423T044333
CREATED:20250204T144142Z
LAST-MODIFIED:20250204T144142Z
UID:8397-1740672000-1740675600@spls.lib.ok.us
SUMMARY:Zumba Gold @ 4 p.m.
DESCRIPTION:Zumba Gold is taught by licensed instructor Janel Picinich. \nThis free event is held every Thursday from 4 p.m. to 4:45 p.m. at the Altus Public Library. \nThe health benefits of Zumba Gold include a full body workout\, calorie burning\, adaptability of any fitness level\, improved blood pressure\, and building endurance! \nFor more information\, or to sign up\, call the Altus Public Library at 580-477-2890.
URL:https://spls.lib.ok.us/event/zumba-gold-4-p-m-17/
CATEGORIES:Adults,Literacy Event
END:VEVENT
BEGIN:VEVENT
DTSTART;TZID=America/Chicago:20250227T180000
DTEND;TZID=America/Chicago:20250227T200000
DTSTAMP:20260423T044333
CREATED:20250204T151518Z
LAST-MODIFIED:20250204T151518Z
UID:8430-1740679200-1740686400@spls.lib.ok.us
SUMMARY:Oil Painting with Michael Snyder @ 6 p.m.
DESCRIPTION:Classes are held at the Altus Public Library (421 N. Hudson) from 6 p.m.-8 p.m. Pre-registration and payment required. Registration closes 5 days before class begins. Class size is limited. \nRegister and make payment in person at the Altus Public Library\, 421 N. Hudson\, or register by phone at 580-477-2890. Class fees are $35 per session. \nClasses are open to all experience levels and are for adults and students ages 16 years and older. \nFor more information\, please contact the Altus Public Library at 580-477-2890.
URL:https://spls.lib.ok.us/event/oil-painting-with-michael-snyder-6-p-m-4/
CATEGORIES:16 & up,Adults
END:VEVENT
BEGIN:VEVENT
DTSTART;TZID=America/Chicago:20250228T110000
DTEND;TZID=America/Chicago:20250228T120000
DTSTAMP:20260423T044333
CREATED:20250204T144433Z
LAST-MODIFIED:20250204T144433Z
UID:8399-1740740400-1740744000@spls.lib.ok.us
SUMMARY:Ya Ya Yarn @ 11 a.m.
DESCRIPTION:Join us at the library for  YA YA Yarn today at 11 a.m.! Whether you’re knitting or crocheting\, bring your projects and enjoy a morning of crafting and company.
URL:https://spls.lib.ok.us/event/ya-ya-yarn-11-a-m-18/
CATEGORIES:Adults
END:VEVENT
END:VCALENDAR