BEGIN:VCALENDAR
VERSION:2.0
PRODID:-//Southern Prairie Library - ECPv6.15.14//NONSGML v1.0//EN
CALSCALE:GREGORIAN
METHOD:PUBLISH
X-WR-CALNAME:Southern Prairie Library
X-ORIGINAL-URL:https://spls.lib.ok.us
X-WR-CALDESC:Events for Southern Prairie Library
REFRESH-INTERVAL;VALUE=DURATION:PT1H
X-Robots-Tag:noindex
X-PUBLISHED-TTL:PT1H
BEGIN:VTIMEZONE
TZID:America/Chicago
BEGIN:DAYLIGHT
TZOFFSETFROM:-0600
TZOFFSETTO:-0500
TZNAME:CDT
DTSTART:20230312T080000
END:DAYLIGHT
BEGIN:STANDARD
TZOFFSETFROM:-0500
TZOFFSETTO:-0600
TZNAME:CST
DTSTART:20231105T070000
END:STANDARD
BEGIN:DAYLIGHT
TZOFFSETFROM:-0600
TZOFFSETTO:-0500
TZNAME:CDT
DTSTART:20240310T080000
END:DAYLIGHT
BEGIN:STANDARD
TZOFFSETFROM:-0500
TZOFFSETTO:-0600
TZNAME:CST
DTSTART:20241103T070000
END:STANDARD
BEGIN:DAYLIGHT
TZOFFSETFROM:-0600
TZOFFSETTO:-0500
TZNAME:CDT
DTSTART:20250309T080000
END:DAYLIGHT
BEGIN:STANDARD
TZOFFSETFROM:-0500
TZOFFSETTO:-0600
TZNAME:CST
DTSTART:20251102T070000
END:STANDARD
END:VTIMEZONE
BEGIN:VEVENT
DTSTART;TZID=America/Chicago:20240507T110000
DTEND;TZID=America/Chicago:20240507T120000
DTSTAMP:20260424T024157
CREATED:20221223T215806Z
LAST-MODIFIED:20240904T191350Z
UID:7424-1715079600-1715083200@spls.lib.ok.us
SUMMARY:Chair Yoga @ 11 a.m.
DESCRIPTION:
URL:https://spls.lib.ok.us/event/chair-yoga-11-a-m-with-erin-martinez-2/2024-05-07/
CATEGORIES:Adults,Literacy Event
END:VEVENT
BEGIN:VEVENT
DTSTART;TZID=America/Chicago:20240507T180000
DTEND;TZID=America/Chicago:20240507T190000
DTSTAMP:20260424T024157
CREATED:20240501T192402Z
LAST-MODIFIED:20240501T192402Z
UID:7430-1715104800-1715108400@spls.lib.ok.us
SUMMARY:Ya Ya Yarn @ 11 a.m.
DESCRIPTION:
URL:https://spls.lib.ok.us/event/ya-ya-yarn-11-a-m-12/
CATEGORIES:16 & up,Adults,Family
END:VEVENT
BEGIN:VEVENT
DTSTART;TZID=America/Chicago:20240508T173000
DTEND;TZID=America/Chicago:20240508T183000
DTSTAMP:20260424T024157
CREATED:20240501T191318Z
LAST-MODIFIED:20240904T193513Z
UID:7627-1715189400-1715193000@spls.lib.ok.us
SUMMARY:Beginning English Class @ 5:30 p.m.
DESCRIPTION:CLASES GRATIS PARA APRENDER INGLÉS!\nFREE CLASSES TO LEARN ENGLISH !
URL:https://spls.lib.ok.us/event/beginning-english-class-530-p-m/2024-05-08/
CATEGORIES:Adults,Literacy Event
END:VEVENT
BEGIN:VEVENT
DTSTART;TZID=America/Chicago:20240509T110000
DTEND;TZID=America/Chicago:20240509T120000
DTSTAMP:20260424T024157
CREATED:20240401T225349Z
LAST-MODIFIED:20240904T191211Z
UID:7420-1715252400-1715256000@spls.lib.ok.us
SUMMARY:Chair Yoga @ 11 a.m.
DESCRIPTION:
URL:https://spls.lib.ok.us/event/chair-yoga-11-a-m/2024-05-09/
CATEGORIES:Adults,Literacy Event
END:VEVENT
BEGIN:VEVENT
DTSTART;TZID=America/Chicago:20240509T160000
DTEND;TZID=America/Chicago:20240509T170000
DTSTAMP:20260424T024157
CREATED:20221223T220027Z
LAST-MODIFIED:20240904T191433Z
UID:7437-1715270400-1715274000@spls.lib.ok.us
SUMMARY:Zumba Gold @ 4 p.m.
DESCRIPTION:
URL:https://spls.lib.ok.us/event/zumba-gold-530-p-m-with-janelle-picinich/2024-05-09/
CATEGORIES:Adults,Literacy Event
END:VEVENT
END:VCALENDAR