BEGIN:VCALENDAR
VERSION:2.0
PRODID:-//Southern Prairie Library - ECPv6.15.14//NONSGML v1.0//EN
CALSCALE:GREGORIAN
METHOD:PUBLISH
X-ORIGINAL-URL:https://spls.lib.ok.us
X-WR-CALDESC:Events for Southern Prairie Library
REFRESH-INTERVAL;VALUE=DURATION:PT1H
X-Robots-Tag:noindex
X-PUBLISHED-TTL:PT1H
BEGIN:VTIMEZONE
TZID:America/Chicago
BEGIN:DAYLIGHT
TZOFFSETFROM:-0600
TZOFFSETTO:-0500
TZNAME:CDT
DTSTART:20250309T080000
END:DAYLIGHT
BEGIN:STANDARD
TZOFFSETFROM:-0500
TZOFFSETTO:-0600
TZNAME:CST
DTSTART:20251102T070000
END:STANDARD
BEGIN:DAYLIGHT
TZOFFSETFROM:-0600
TZOFFSETTO:-0500
TZNAME:CDT
DTSTART:20260308T080000
END:DAYLIGHT
BEGIN:STANDARD
TZOFFSETFROM:-0500
TZOFFSETTO:-0600
TZNAME:CST
DTSTART:20261101T070000
END:STANDARD
BEGIN:DAYLIGHT
TZOFFSETFROM:-0600
TZOFFSETTO:-0500
TZNAME:CDT
DTSTART:20270314T080000
END:DAYLIGHT
BEGIN:STANDARD
TZOFFSETFROM:-0500
TZOFFSETTO:-0600
TZNAME:CST
DTSTART:20271107T070000
END:STANDARD
END:VTIMEZONE
BEGIN:VEVENT
DTSTART;TZID=America/Chicago:20260204T100000
DTEND;TZID=America/Chicago:20260204T110000
DTSTAMP:20260421T103744
CREATED:20260203T184740Z
LAST-MODIFIED:20260203T184740Z
UID:9679-1770199200-1770202800@spls.lib.ok.us
SUMMARY:Coffee Cup @ 10 a.m.
DESCRIPTION:Don’t forget to join us on for our Coffee Cup Bunch Friends of the Library Book Review! \nFebruary 4\, 2026 at 10:00 a.m. at the Altus Public Library\, 421 N. Hudson. \nThis review will have a little something for everyone! Please join us! This event is free and open to the public!
URL:https://spls.lib.ok.us/event/coffee-cup-10-a-m-7/
CATEGORIES:Adults
END:VEVENT
END:VCALENDAR