BEGIN:VCALENDAR
VERSION:2.0
PRODID:-//Southern Prairie Library - ECPv6.15.14//NONSGML v1.0//EN
CALSCALE:GREGORIAN
METHOD:PUBLISH
X-WR-CALNAME:Southern Prairie Library
X-ORIGINAL-URL:https://spls.lib.ok.us
X-WR-CALDESC:Events for Southern Prairie Library
REFRESH-INTERVAL;VALUE=DURATION:PT1H
X-Robots-Tag:noindex
X-PUBLISHED-TTL:PT1H
BEGIN:VTIMEZONE
TZID:America/Chicago
BEGIN:DAYLIGHT
TZOFFSETFROM:-0600
TZOFFSETTO:-0500
TZNAME:CDT
DTSTART:20240310T080000
END:DAYLIGHT
BEGIN:STANDARD
TZOFFSETFROM:-0500
TZOFFSETTO:-0600
TZNAME:CST
DTSTART:20241103T070000
END:STANDARD
BEGIN:DAYLIGHT
TZOFFSETFROM:-0600
TZOFFSETTO:-0500
TZNAME:CDT
DTSTART:20250309T080000
END:DAYLIGHT
BEGIN:STANDARD
TZOFFSETFROM:-0500
TZOFFSETTO:-0600
TZNAME:CST
DTSTART:20251102T070000
END:STANDARD
BEGIN:DAYLIGHT
TZOFFSETFROM:-0600
TZOFFSETTO:-0500
TZNAME:CDT
DTSTART:20260308T080000
END:DAYLIGHT
BEGIN:STANDARD
TZOFFSETFROM:-0500
TZOFFSETTO:-0600
TZNAME:CST
DTSTART:20261101T070000
END:STANDARD
END:VTIMEZONE
BEGIN:VEVENT
DTSTART;TZID=America/Chicago:20251031T110000
DTEND;TZID=America/Chicago:20251031T120000
DTSTAMP:20260421T152932
CREATED:20250929T162617Z
LAST-MODIFIED:20250929T162617Z
UID:9223-1761908400-1761912000@spls.lib.ok.us
SUMMARY:Ya Ya Yarn @ 11 a.m.
DESCRIPTION:Calling all yarn lovers!\n\n\n\nWhether you’re a seasoned pro with needles and hooks or just picking up yarn for the first time — Ya Ya Yarn is for YOU!\n\n\n\nFriday\, Ocotber 31st at 11 AM\nAltus Public Library- 421 N Hudson St.\n(580) 477-2890\n\n\n\nBring your current project or come ready to learn something new in a fun\, welcoming space. We’ll provide good company\, great conversation\, and plenty of creative inspiration.
URL:https://spls.lib.ok.us/event/ya-ya-yarn-11-a-m-26/
CATEGORIES:Adults,Family
END:VEVENT
END:VCALENDAR