BEGIN:VCALENDAR
VERSION:2.0
PRODID:-//Southern Prairie Library - ECPv6.15.14//NONSGML v1.0//EN
CALSCALE:GREGORIAN
METHOD:PUBLISH
X-ORIGINAL-URL:https://spls.lib.ok.us
X-WR-CALDESC:Events for Southern Prairie Library
REFRESH-INTERVAL;VALUE=DURATION:PT1H
X-Robots-Tag:noindex
X-PUBLISHED-TTL:PT1H
BEGIN:VTIMEZONE
TZID:America/Chicago
BEGIN:DAYLIGHT
TZOFFSETFROM:-0600
TZOFFSETTO:-0500
TZNAME:CDT
DTSTART:20240310T080000
END:DAYLIGHT
BEGIN:STANDARD
TZOFFSETFROM:-0500
TZOFFSETTO:-0600
TZNAME:CST
DTSTART:20241103T070000
END:STANDARD
BEGIN:DAYLIGHT
TZOFFSETFROM:-0600
TZOFFSETTO:-0500
TZNAME:CDT
DTSTART:20250309T080000
END:DAYLIGHT
BEGIN:STANDARD
TZOFFSETFROM:-0500
TZOFFSETTO:-0600
TZNAME:CST
DTSTART:20251102T070000
END:STANDARD
BEGIN:DAYLIGHT
TZOFFSETFROM:-0600
TZOFFSETTO:-0500
TZNAME:CDT
DTSTART:20260308T080000
END:DAYLIGHT
BEGIN:STANDARD
TZOFFSETFROM:-0500
TZOFFSETTO:-0600
TZNAME:CST
DTSTART:20261101T070000
END:STANDARD
END:VTIMEZONE
BEGIN:VEVENT
DTSTART;TZID=America/Chicago:20251023T110000
DTEND;TZID=America/Chicago:20251023T120000
DTSTAMP:20260421T204153
CREATED:20250814T145520Z
LAST-MODIFIED:20260330T152637Z
UID:9243-1761217200-1761220800@spls.lib.ok.us
SUMMARY:Chair Yoga @ 11 a.m.
DESCRIPTION:Chair Yoga is taught by licensed instructor Erin Martinez. \nThis free event is held every Tuesday and Thursday from 11 a.m. to 11:45 a.m. at the Altus Public Library. \nYou will learn safe and easy exercises to keep your muscles and joints strong as well as tips on proper breathing. \nFor more information\, or to sign up\, call the Altus Public Library at 580-477-2890.
URL:https://spls.lib.ok.us/event/chair-yoga-11-a-m-78/2025-10-23/
CATEGORIES:Adults,Literacy Event
END:VEVENT
BEGIN:VEVENT
DTSTART;TZID=America/Chicago:20251023T160000
DTEND;TZID=America/Chicago:20251023T170000
DTSTAMP:20260421T204153
CREATED:20250814T142928Z
LAST-MODIFIED:20260330T163935Z
UID:9257-1761235200-1761238800@spls.lib.ok.us
SUMMARY:Zumba Gold @ 4 p.m.
DESCRIPTION:Zumba Gold is taught by licensed instructor Janel Picinich. \nThis free event is held every Thursday from 4 p.m. to 4:45 p.m. at the Altus Public Library. \nThe health benefits of Zumba Gold include a full body workout\, calorie burning\, adaptability of any fitness level\, improved blood pressure\, and building endurance! \nFor more information\, or to sign up\, call the Altus Public Library at 580-477-2890.
URL:https://spls.lib.ok.us/event/zumba-gold-4-p-m-39/2025-10-23/
CATEGORIES:Adults,Literacy Event
END:VEVENT
BEGIN:VEVENT
DTSTART;TZID=America/Chicago:20251023T170000
DTEND;TZID=America/Chicago:20251023T190000
DTSTAMP:20260421T204153
CREATED:20250929T165333Z
LAST-MODIFIED:20250929T165333Z
UID:9275-1761238800-1761246000@spls.lib.ok.us
SUMMARY:Silent Book Club @ 5 p.m.
DESCRIPTION:Join us for Silent Book Club this evening at 5 PM!\n\n\n\nThursday\, October 23rd from 5 PM – 7 PM\nAltus Public Library – 421 N Hudson St.\n\n\n\nNo assigned reading. No pressure. Just quiet\, cozy reading time with fellow book lovers.\n\nBring your own book or grab one from the library shelves and settle in for two hours of uninterrupted reading bliss.\n\n\n\nPerfect for introverts\, busy readers\, or anyone craving some peaceful book time!
URL:https://spls.lib.ok.us/event/silent-book-club-5-p-m-2/
CATEGORIES:Adults,Family
END:VEVENT
END:VCALENDAR