BEGIN:VCALENDAR
VERSION:2.0
PRODID:-//Southern Prairie Library - ECPv6.15.14//NONSGML v1.0//EN
CALSCALE:GREGORIAN
METHOD:PUBLISH
X-WR-CALNAME:Southern Prairie Library
X-ORIGINAL-URL:https://spls.lib.ok.us
X-WR-CALDESC:Events for Southern Prairie Library
REFRESH-INTERVAL;VALUE=DURATION:PT1H
X-Robots-Tag:noindex
X-PUBLISHED-TTL:PT1H
BEGIN:VTIMEZONE
TZID:America/Chicago
BEGIN:DAYLIGHT
TZOFFSETFROM:-0600
TZOFFSETTO:-0500
TZNAME:CDT
DTSTART:20240310T080000
END:DAYLIGHT
BEGIN:STANDARD
TZOFFSETFROM:-0500
TZOFFSETTO:-0600
TZNAME:CST
DTSTART:20241103T070000
END:STANDARD
BEGIN:DAYLIGHT
TZOFFSETFROM:-0600
TZOFFSETTO:-0500
TZNAME:CDT
DTSTART:20250309T080000
END:DAYLIGHT
BEGIN:STANDARD
TZOFFSETFROM:-0500
TZOFFSETTO:-0600
TZNAME:CST
DTSTART:20251102T070000
END:STANDARD
BEGIN:DAYLIGHT
TZOFFSETFROM:-0600
TZOFFSETTO:-0500
TZNAME:CDT
DTSTART:20260308T080000
END:DAYLIGHT
BEGIN:STANDARD
TZOFFSETFROM:-0500
TZOFFSETTO:-0600
TZNAME:CST
DTSTART:20261101T070000
END:STANDARD
END:VTIMEZONE
BEGIN:VEVENT
DTSTART;TZID=America/Chicago:20251006T093000
DTEND;TZID=America/Chicago:20251006T103000
DTSTAMP:20260421T203713
CREATED:20250814T144939Z
LAST-MODIFIED:20250814T144939Z
UID:9230-1759743000-1759746600@spls.lib.ok.us
SUMMARY:Tai Chi @ 9:30 a.m.
DESCRIPTION:We are excited to be able to offer Tai Chi along with our other exercise programs!\n\nJoin our instructor Rosalyn Hall starting Monday August 4\, @ 9:30am.\n\nPlease call 477-2890\, or text 580-564-0400\, to register.
URL:https://spls.lib.ok.us/event/tai-chi-930-a-m/2025-10-06/
CATEGORIES:Adults,Literacy Event
END:VEVENT
BEGIN:VEVENT
DTSTART;TZID=America/Chicago:20251006T110000
DTEND;TZID=America/Chicago:20251006T120000
DTSTAMP:20260421T203713
CREATED:20250929T165045Z
LAST-MODIFIED:20250929T165045Z
UID:9273-1759748400-1759752000@spls.lib.ok.us
SUMMARY:Silent Book Club @ 11 a.m.
DESCRIPTION:Join us for Silent Book Club this morning at 11 AM!\n\n\n\nMonday\, October 6th from 11 AM – 1 PM\nAltus Public Library – 421 N Hudson St.\n\n\n\nNo assigned reading. No pressure. Just quiet\, cozy reading time with fellow book lovers.\n\nBring your own book or grab one from the library shelves and settle in for two hours of uninterrupted reading bliss.\n\n\n\nPerfect for introverts\, busy readers\, or anyone craving some peaceful book time!
URL:https://spls.lib.ok.us/event/silent-book-club-11-a-m/
CATEGORIES:Adults,Family
END:VEVENT
END:VCALENDAR