BEGIN:VCALENDAR
VERSION:2.0
PRODID:-//Southern Prairie Library - ECPv6.15.14//NONSGML v1.0//EN
CALSCALE:GREGORIAN
METHOD:PUBLISH
X-ORIGINAL-URL:https://spls.lib.ok.us
X-WR-CALDESC:Events for Southern Prairie Library
REFRESH-INTERVAL;VALUE=DURATION:PT1H
X-Robots-Tag:noindex
X-PUBLISHED-TTL:PT1H
BEGIN:VTIMEZONE
TZID:America/Chicago
BEGIN:DAYLIGHT
TZOFFSETFROM:-0600
TZOFFSETTO:-0500
TZNAME:CDT
DTSTART:20240310T080000
END:DAYLIGHT
BEGIN:STANDARD
TZOFFSETFROM:-0500
TZOFFSETTO:-0600
TZNAME:CST
DTSTART:20241103T070000
END:STANDARD
BEGIN:DAYLIGHT
TZOFFSETFROM:-0600
TZOFFSETTO:-0500
TZNAME:CDT
DTSTART:20250309T080000
END:DAYLIGHT
BEGIN:STANDARD
TZOFFSETFROM:-0500
TZOFFSETTO:-0600
TZNAME:CST
DTSTART:20251102T070000
END:STANDARD
BEGIN:DAYLIGHT
TZOFFSETFROM:-0600
TZOFFSETTO:-0500
TZNAME:CDT
DTSTART:20260308T080000
END:DAYLIGHT
BEGIN:STANDARD
TZOFFSETFROM:-0500
TZOFFSETTO:-0600
TZNAME:CST
DTSTART:20261101T070000
END:STANDARD
END:VTIMEZONE
BEGIN:VEVENT
DTSTART;TZID=America/Chicago:20250902T093000
DTEND;TZID=America/Chicago:20250902T103000
DTSTAMP:20260421T204131
CREATED:20250814T144939Z
LAST-MODIFIED:20250929T162802Z
UID:9101-1756805400-1756809000@spls.lib.ok.us
SUMMARY:Tai Chi @ 9:30 a.m.
DESCRIPTION:We are excited to be able to offer Tai Chi along with our other exercise programs!\n\nJoin our instructor Rosalyn Hall starting Monday August 4\, @ 9:30am.\n\nPlease call 477-2890\, or text 580-564-0400\, to register.
URL:https://spls.lib.ok.us/event/tai-chi-930-a-m/2025-09-02/
CATEGORIES:Adults,Literacy Event
END:VEVENT
BEGIN:VEVENT
DTSTART;TZID=America/Chicago:20250902T170000
DTEND;TZID=America/Chicago:20250902T180000
DTSTAMP:20260421T204131
CREATED:20250826T203511Z
LAST-MODIFIED:20250903T200211Z
UID:9121-1756832400-1756836000@spls.lib.ok.us
SUMMARY:Ya Ya Yarn @ 5 p.m.
DESCRIPTION:Attention all yarn addicts!\n\n\n\nJoin us on Tuesday\, September 2nd at 5 PM for our next Ya Ya Yarn meeting! If you’re a total newbie or you have a project you’re working on\, everyone is welcome to come! You don’t even have to just knit or crochet! If you work with anything yarn related\, you’re more than welcome to come!
URL:https://spls.lib.ok.us/event/ya-ya-yarn-5-p-m-2/
CATEGORIES:Adults,Family
END:VEVENT
END:VCALENDAR