BEGIN:VCALENDAR
VERSION:2.0
PRODID:-//Southern Prairie Library - ECPv6.15.14//NONSGML v1.0//EN
CALSCALE:GREGORIAN
METHOD:PUBLISH
X-ORIGINAL-URL:https://spls.lib.ok.us
X-WR-CALDESC:Events for Southern Prairie Library
REFRESH-INTERVAL;VALUE=DURATION:PT1H
X-Robots-Tag:noindex
X-PUBLISHED-TTL:PT1H
BEGIN:VTIMEZONE
TZID:America/Chicago
BEGIN:DAYLIGHT
TZOFFSETFROM:-0600
TZOFFSETTO:-0500
TZNAME:CDT
DTSTART:20240310T080000
END:DAYLIGHT
BEGIN:STANDARD
TZOFFSETFROM:-0500
TZOFFSETTO:-0600
TZNAME:CST
DTSTART:20241103T070000
END:STANDARD
BEGIN:DAYLIGHT
TZOFFSETFROM:-0600
TZOFFSETTO:-0500
TZNAME:CDT
DTSTART:20250309T080000
END:DAYLIGHT
BEGIN:STANDARD
TZOFFSETFROM:-0500
TZOFFSETTO:-0600
TZNAME:CST
DTSTART:20251102T070000
END:STANDARD
BEGIN:DAYLIGHT
TZOFFSETFROM:-0600
TZOFFSETTO:-0500
TZNAME:CDT
DTSTART:20260308T080000
END:DAYLIGHT
BEGIN:STANDARD
TZOFFSETFROM:-0500
TZOFFSETTO:-0600
TZNAME:CST
DTSTART:20261101T070000
END:STANDARD
END:VTIMEZONE
BEGIN:VEVENT
DTSTART;TZID=America/Chicago:20250401T110000
DTEND;TZID=America/Chicago:20250401T120000
DTSTAMP:20260423T014249
CREATED:20250407T144359Z
LAST-MODIFIED:20250407T144359Z
UID:8562-1743505200-1743508800@spls.lib.ok.us
SUMMARY:Chair Yoga @ 11 a.m.
DESCRIPTION:Chair Yoga is taught by licensed instructor Erin Martinez. \nThis free event is held every Tuesday and Thursday from 11 a.m. to 11:45 a.m. at the Altus Public Library. \nYou will learn safe and easy exercises to keep your muscles and joints strong as well as tips on proper breathing. \nFor more information\, or to sign up\, call the Altus Public Library at 580-477-2890.
URL:https://spls.lib.ok.us/event/chair-yoga-11-a-m-43/
CATEGORIES:Adults,Literacy Event
END:VEVENT
BEGIN:VEVENT
DTSTART;TZID=America/Chicago:20250401T180000
DTEND;TZID=America/Chicago:20250401T190000
DTSTAMP:20260423T014249
CREATED:20250404T143657Z
LAST-MODIFIED:20250404T143657Z
UID:8540-1743530400-1743534000@spls.lib.ok.us
SUMMARY:Ya Ya Yarn @ 6 p.m.
DESCRIPTION:Do you love yarn? Want to learn how to crochet or knit? Or maybe you just want to hang out with fellow yarn enthusiasts? Ya Ya Yarn is the perfect place for you!\n\n\n\nWhether you’re a total beginner or a seasoned pro\, come join us for a fun and relaxing time. We’ll provide the yarn and crochet hooks\, and a staff member will be there to help if you want to learn. Just bring yourself and your love for all things cozy!\n\n\nNo registration required—just drop in and stitch away!
URL:https://spls.lib.ok.us/event/ya-ya-yarn-6-p-m-10/
CATEGORIES:Adults,Family
END:VEVENT
END:VCALENDAR