BEGIN:VCALENDAR
VERSION:2.0
PRODID:-//Southern Prairie Library - ECPv6.15.14//NONSGML v1.0//EN
CALSCALE:GREGORIAN
METHOD:PUBLISH
X-ORIGINAL-URL:https://spls.lib.ok.us
X-WR-CALDESC:Events for Southern Prairie Library
REFRESH-INTERVAL;VALUE=DURATION:PT1H
X-Robots-Tag:noindex
X-PUBLISHED-TTL:PT1H
BEGIN:VTIMEZONE
TZID:America/Chicago
BEGIN:DAYLIGHT
TZOFFSETFROM:-0600
TZOFFSETTO:-0500
TZNAME:CDT
DTSTART:20240310T080000
END:DAYLIGHT
BEGIN:STANDARD
TZOFFSETFROM:-0500
TZOFFSETTO:-0600
TZNAME:CST
DTSTART:20241103T070000
END:STANDARD
BEGIN:DAYLIGHT
TZOFFSETFROM:-0600
TZOFFSETTO:-0500
TZNAME:CDT
DTSTART:20250309T080000
END:DAYLIGHT
BEGIN:STANDARD
TZOFFSETFROM:-0500
TZOFFSETTO:-0600
TZNAME:CST
DTSTART:20251102T070000
END:STANDARD
BEGIN:DAYLIGHT
TZOFFSETFROM:-0600
TZOFFSETTO:-0500
TZNAME:CDT
DTSTART:20260308T080000
END:DAYLIGHT
BEGIN:STANDARD
TZOFFSETFROM:-0500
TZOFFSETTO:-0600
TZNAME:CST
DTSTART:20261101T070000
END:STANDARD
END:VTIMEZONE
BEGIN:VEVENT
DTSTART;TZID=America/Chicago:20250205T110000
DTEND;TZID=America/Chicago:20250205T120000
DTSTAMP:20260423T094427
CREATED:20250204T144532Z
LAST-MODIFIED:20250204T144532Z
UID:8401-1738753200-1738756800@spls.lib.ok.us
SUMMARY:Coffee Cup @ 11 a.m.
DESCRIPTION:The Coffee Cup Bunch Friends of the Library welcomes author\, Frank Rush III\, at 10:00 a.m. on Wednesday\, February 5\, 2025\, at the Altus Public Library\, 421 N. Hudson.  \nHe will review his book\, “Wichita Mountain Fun: The Story of the Frank Rush Family in the Wichita Mountains and Craterville Park.” Frank is the grandson of Craterville Park’s creator and will regale us with stories and photographs of the history of the park. Come share your memories with us! This event is free and open to the public. We hope you will join us!!
URL:https://spls.lib.ok.us/event/coffee-cup-11-a-m/
CATEGORIES:Adults
END:VEVENT
END:VCALENDAR