BEGIN:VCALENDAR
VERSION:2.0
PRODID:-//Southern Prairie Library - ECPv6.15.14//NONSGML v1.0//EN
CALSCALE:GREGORIAN
METHOD:PUBLISH
X-WR-CALNAME:Southern Prairie Library
X-ORIGINAL-URL:https://spls.lib.ok.us
X-WR-CALDESC:Events for Southern Prairie Library
REFRESH-INTERVAL;VALUE=DURATION:PT1H
X-Robots-Tag:noindex
X-PUBLISHED-TTL:PT1H
BEGIN:VTIMEZONE
TZID:America/Chicago
BEGIN:DAYLIGHT
TZOFFSETFROM:-0600
TZOFFSETTO:-0500
TZNAME:CDT
DTSTART:20230312T080000
END:DAYLIGHT
BEGIN:STANDARD
TZOFFSETFROM:-0500
TZOFFSETTO:-0600
TZNAME:CST
DTSTART:20231105T070000
END:STANDARD
BEGIN:DAYLIGHT
TZOFFSETFROM:-0600
TZOFFSETTO:-0500
TZNAME:CDT
DTSTART:20240310T080000
END:DAYLIGHT
BEGIN:STANDARD
TZOFFSETFROM:-0500
TZOFFSETTO:-0600
TZNAME:CST
DTSTART:20241103T070000
END:STANDARD
BEGIN:DAYLIGHT
TZOFFSETFROM:-0600
TZOFFSETTO:-0500
TZNAME:CDT
DTSTART:20250309T080000
END:DAYLIGHT
BEGIN:STANDARD
TZOFFSETFROM:-0500
TZOFFSETTO:-0600
TZNAME:CST
DTSTART:20251102T070000
END:STANDARD
END:VTIMEZONE
BEGIN:VEVENT
DTSTART;TZID=America/Chicago:20240605T100000
DTEND;TZID=America/Chicago:20240605T110000
DTSTAMP:20260424T055625
CREATED:20240604T172921Z
LAST-MODIFIED:20240604T172921Z
UID:7636-1717581600-1717585200@spls.lib.ok.us
SUMMARY:Coffee Cup @ 10 a.m. w/ Sidney Thompson
DESCRIPTION:The Coffee Cup Bunch Friends of the Library welcomes award-winning author\, Sidney Thompson at 10:00 a.m. on Wednesday\, June 5th\, 2024\, at the Altus Public Library\, 421 N. Hudson.  \nSidney will tell “the rest of the story” of the most feared U.S. Marshal in Indian Territory\, Bass Reeves. Sidney is returning to Altus to present the final book in his trilogy “The Forsaken and the Dead” as well as tell us about his experiences in working as a consultant on the Pararmount+ “Lawman: Bass Reeves” miniseries. Thompson’s works narrate Reeves’ exploits in the world of the frontier that is now Oklahoma\, Arkansas and Texas. This event is free and open to the public. We hope you will join us!!
URL:https://spls.lib.ok.us/event/coffee-cup-10-a-m-w-sidney-thompson-2/
CATEGORIES:Adults
END:VEVENT
BEGIN:VEVENT
DTSTART;TZID=America/Chicago:20240605T173000
DTEND;TZID=America/Chicago:20240605T183000
DTSTAMP:20260424T055625
CREATED:20240501T191318Z
LAST-MODIFIED:20240904T193513Z
UID:7631-1717608600-1717612200@spls.lib.ok.us
SUMMARY:Beginning English Class @ 5:30 p.m.
DESCRIPTION:CLASES GRATIS PARA APRENDER INGLÉS!\nFREE CLASSES TO LEARN ENGLISH !
URL:https://spls.lib.ok.us/event/beginning-english-class-530-p-m/2024-06-05/
CATEGORIES:Adults,Literacy Event
END:VEVENT
END:VCALENDAR