BEGIN:VCALENDAR
VERSION:2.0
PRODID:-//Southern Prairie Library - ECPv6.15.14//NONSGML v1.0//EN
CALSCALE:GREGORIAN
METHOD:PUBLISH
X-WR-CALNAME:Southern Prairie Library
X-ORIGINAL-URL:https://spls.lib.ok.us
X-WR-CALDESC:Events for Southern Prairie Library
REFRESH-INTERVAL;VALUE=DURATION:PT1H
X-Robots-Tag:noindex
X-PUBLISHED-TTL:PT1H
BEGIN:VTIMEZONE
TZID:America/Chicago
BEGIN:DAYLIGHT
TZOFFSETFROM:-0600
TZOFFSETTO:-0500
TZNAME:CDT
DTSTART:20230312T080000
END:DAYLIGHT
BEGIN:STANDARD
TZOFFSETFROM:-0500
TZOFFSETTO:-0600
TZNAME:CST
DTSTART:20231105T070000
END:STANDARD
BEGIN:DAYLIGHT
TZOFFSETFROM:-0600
TZOFFSETTO:-0500
TZNAME:CDT
DTSTART:20240310T080000
END:DAYLIGHT
BEGIN:STANDARD
TZOFFSETFROM:-0500
TZOFFSETTO:-0600
TZNAME:CST
DTSTART:20241103T070000
END:STANDARD
BEGIN:DAYLIGHT
TZOFFSETFROM:-0600
TZOFFSETTO:-0500
TZNAME:CDT
DTSTART:20250309T080000
END:DAYLIGHT
BEGIN:STANDARD
TZOFFSETFROM:-0500
TZOFFSETTO:-0600
TZNAME:CST
DTSTART:20251102T070000
END:STANDARD
END:VTIMEZONE
BEGIN:VEVENT
DTSTART;TZID=America/Chicago:20240206T170000
DTEND;TZID=America/Chicago:20240206T180000
DTSTAMP:20260424T055618
CREATED:20240131T151305Z
LAST-MODIFIED:20240131T151337Z
UID:6956-1707238800-1707242400@spls.lib.ok.us
SUMMARY:Slow Cooker Workshop @ 5 p.m. w/ Mirage Memmer
DESCRIPTION:Great Plains Literacy Council Presents “Slow Cooker Workshop” with Mirage Memmer! \nWith the cold wintry weather\, what better time than ever to discuss\nslow cooker recipes! Join us for a taste test of two slow cooker\nrecipes you can make at home — one that’s savory and one that’s\nsweet! There will be resources\, recipes\, helpful\ntips\, and a door prize available! \nThe class is limited to 15 participants. No need to bring your slow cooker to class — just your ideas and favorite slow cooker recipes! \nCall the library at (580) 477-2890 to register.
URL:https://spls.lib.ok.us/event/slow-cooker-workshop-5-p-m-w-mirage-memmer/
CATEGORIES:Adults,Literacy Event
END:VEVENT
END:VCALENDAR