BEGIN:VCALENDAR
VERSION:2.0
PRODID:-//Southern Prairie Library - ECPv6.15.14//NONSGML v1.0//EN
CALSCALE:GREGORIAN
METHOD:PUBLISH
X-WR-CALNAME:Southern Prairie Library
X-ORIGINAL-URL:https://spls.lib.ok.us
X-WR-CALDESC:Events for Southern Prairie Library
REFRESH-INTERVAL;VALUE=DURATION:PT1H
X-Robots-Tag:noindex
X-PUBLISHED-TTL:PT1H
BEGIN:VTIMEZONE
TZID:America/Chicago
BEGIN:DAYLIGHT
TZOFFSETFROM:-0600
TZOFFSETTO:-0500
TZNAME:CDT
DTSTART:20220313T080000
END:DAYLIGHT
BEGIN:STANDARD
TZOFFSETFROM:-0500
TZOFFSETTO:-0600
TZNAME:CST
DTSTART:20221106T070000
END:STANDARD
BEGIN:DAYLIGHT
TZOFFSETFROM:-0600
TZOFFSETTO:-0500
TZNAME:CDT
DTSTART:20230312T080000
END:DAYLIGHT
BEGIN:STANDARD
TZOFFSETFROM:-0500
TZOFFSETTO:-0600
TZNAME:CST
DTSTART:20231105T070000
END:STANDARD
BEGIN:DAYLIGHT
TZOFFSETFROM:-0600
TZOFFSETTO:-0500
TZNAME:CDT
DTSTART:20240310T080000
END:DAYLIGHT
BEGIN:STANDARD
TZOFFSETFROM:-0500
TZOFFSETTO:-0600
TZNAME:CST
DTSTART:20241103T070000
END:STANDARD
END:VTIMEZONE
BEGIN:VEVENT
DTSTART;TZID=America/Chicago:20231004T100000
DTEND;TZID=America/Chicago:20231004T110000
DTSTAMP:20260425T091315
CREATED:20230928T141242Z
LAST-MODIFIED:20230928T141242Z
UID:6384-1696413600-1696417200@spls.lib.ok.us
SUMMARY:Coffee Cup @ 10 a.m. w/ Justin Lenhart
DESCRIPTION:The Coffee Cup Bunch Friends of the Library welcomes Justin Lenhart\, curator of the Jim Thorpe Museum in Oklahoma City\, who will share the story of Jim Thorpe – perhaps the most remarkable athlete in history – as he reviews the new biography: “Path Lit by Lightning” by David Maraniss. This program will be held at 10:00 a.m. on October 4th\, 2023 at the Altus Public Library\, 421 N. Hudson.\nPlease join us! This event is free and open to the public.
URL:https://spls.lib.ok.us/event/coffee-cup-10-a-m-w-justin-lenhart/
CATEGORIES:Adults
END:VEVENT
BEGIN:VEVENT
DTSTART;TZID=America/Chicago:20231004T130000
DTEND;TZID=America/Chicago:20231004T140000
DTSTAMP:20260425T091315
CREATED:20230928T132940Z
LAST-MODIFIED:20230928T132940Z
UID:6375-1696424400-1696428000@spls.lib.ok.us
SUMMARY:Tai Chi @ 1 p.m. w/ Megan Monteith
DESCRIPTION:The class is limited to 20 participants. Please call the Altus Public Library at 580-477-2890 to reserve your spot.
URL:https://spls.lib.ok.us/event/tai-chi-1-p-m-w-megan-monteith-5/
CATEGORIES:Adults,Literacy Event
END:VEVENT
END:VCALENDAR