BEGIN:VCALENDAR
VERSION:2.0
PRODID:-//Southern Prairie Library - ECPv6.15.14//NONSGML v1.0//EN
CALSCALE:GREGORIAN
METHOD:PUBLISH
X-WR-CALNAME:Southern Prairie Library
X-ORIGINAL-URL:https://spls.lib.ok.us
X-WR-CALDESC:Events for Southern Prairie Library
REFRESH-INTERVAL;VALUE=DURATION:PT1H
X-Robots-Tag:noindex
X-PUBLISHED-TTL:PT1H
BEGIN:VTIMEZONE
TZID:America/Chicago
BEGIN:DAYLIGHT
TZOFFSETFROM:-0600
TZOFFSETTO:-0500
TZNAME:CDT
DTSTART:20220313T080000
END:DAYLIGHT
BEGIN:STANDARD
TZOFFSETFROM:-0500
TZOFFSETTO:-0600
TZNAME:CST
DTSTART:20221106T070000
END:STANDARD
BEGIN:DAYLIGHT
TZOFFSETFROM:-0600
TZOFFSETTO:-0500
TZNAME:CDT
DTSTART:20230312T080000
END:DAYLIGHT
BEGIN:STANDARD
TZOFFSETFROM:-0500
TZOFFSETTO:-0600
TZNAME:CST
DTSTART:20231105T070000
END:STANDARD
BEGIN:DAYLIGHT
TZOFFSETFROM:-0600
TZOFFSETTO:-0500
TZNAME:CDT
DTSTART:20240310T080000
END:DAYLIGHT
BEGIN:STANDARD
TZOFFSETFROM:-0500
TZOFFSETTO:-0600
TZNAME:CST
DTSTART:20241103T070000
END:STANDARD
END:VTIMEZONE
BEGIN:VEVENT
DTSTART;VALUE=DATE:20230904
DTEND;VALUE=DATE:20230905
DTSTAMP:20260425T091159
CREATED:20230828T142553Z
LAST-MODIFIED:20230828T142553Z
UID:6306-1693785600-1693871999@spls.lib.ok.us
SUMMARY:Closed - Labor Day
DESCRIPTION:
URL:https://spls.lib.ok.us/event/closed-labor-day-2/
CATEGORIES:Adults,Family
ATTACH;FMTTYPE=image/png:https://spls.lib.ok.us/wp-content/uploads/2023/08/labor-day.png
END:VEVENT
BEGIN:VEVENT
DTSTART;TZID=America/Chicago:20230906T100000
DTEND;TZID=America/Chicago:20230906T110000
DTSTAMP:20260425T091159
CREATED:20230828T141030Z
LAST-MODIFIED:20230828T141030Z
UID:6304-1693994400-1693998000@spls.lib.ok.us
SUMMARY:Coffee Cup @ 10 a.m. w/ Rilla Askew
DESCRIPTION:Rilla Askew will be joining us to talk about her books.
URL:https://spls.lib.ok.us/event/coffee-cup-10-a-m-w-rilla-askew/
CATEGORIES:Adults
END:VEVENT
BEGIN:VEVENT
DTSTART;TZID=America/Chicago:20230906T130000
DTEND;TZID=America/Chicago:20230906T140000
DTSTAMP:20260425T091159
CREATED:20230828T143502Z
LAST-MODIFIED:20230828T143502Z
UID:6311-1694005200-1694008800@spls.lib.ok.us
SUMMARY:Tai Chi @ 1 p.m. w/ Megan Monteith
DESCRIPTION:The class is limited to 20 participants. Please call the Altus Public Library at 580-477-2890 to reserve your spot.
URL:https://spls.lib.ok.us/event/tai-chi-1-p-m-w-megan-monteith/
CATEGORIES:Adults,Literacy Event
END:VEVENT
BEGIN:VEVENT
DTSTART;TZID=America/Chicago:20230908T110000
DTEND;TZID=America/Chicago:20230908T120000
DTSTAMP:20260425T091159
CREATED:20230828T144022Z
LAST-MODIFIED:20230828T144022Z
UID:6319-1694170800-1694174400@spls.lib.ok.us
SUMMARY:Ya Ya Yarn @ 11 a.m.
DESCRIPTION:
URL:https://spls.lib.ok.us/event/ya-ya-yarn-11-a-m-5/
CATEGORIES:Adults,Family
END:VEVENT
BEGIN:VEVENT
DTSTART;TZID=America/Chicago:20230913T130000
DTEND;TZID=America/Chicago:20230913T140000
DTSTAMP:20260425T091159
CREATED:20230828T143612Z
LAST-MODIFIED:20230828T143612Z
UID:6313-1694610000-1694613600@spls.lib.ok.us
SUMMARY:Tai Chi @ 1 p.m. w/ Megan Monteith
DESCRIPTION:The class is limited to 20 participants. Please call the Altus Public Library @ 580-477-2890 to reserve your spot.
URL:https://spls.lib.ok.us/event/tai-chi-1-p-m-w-megan-monteith-2/
CATEGORIES:Adults,Literacy Event
END:VEVENT
BEGIN:VEVENT
DTSTART;TZID=America/Chicago:20230920T130000
DTEND;TZID=America/Chicago:20230920T140000
DTSTAMP:20260425T091159
CREATED:20230828T143730Z
LAST-MODIFIED:20230828T143730Z
UID:6315-1695214800-1695218400@spls.lib.ok.us
SUMMARY:Tai Chi @ 1 p.m. w/ Megan Monteith
DESCRIPTION:The class is limited to 20 participants. Please call the Altus Public Library @ 580-477-2890 to reserve your spot.
URL:https://spls.lib.ok.us/event/tai-chi-1-p-m-w-megan-monteith-3/
CATEGORIES:Adults,Literacy Event
END:VEVENT
BEGIN:VEVENT
DTSTART;TZID=America/Chicago:20230923T110000
DTEND;TZID=America/Chicago:20230923T120000
DTSTAMP:20260425T091159
CREATED:20230828T144825Z
LAST-MODIFIED:20230828T144825Z
UID:6329-1695466800-1695470400@spls.lib.ok.us
SUMMARY:Ya Ya Yarn @ 11 a.m.
DESCRIPTION:
URL:https://spls.lib.ok.us/event/ya-ya-yarn-11-a-m-6/
CATEGORIES:Adults,Family
END:VEVENT
BEGIN:VEVENT
DTSTART;TZID=America/Chicago:20230925T180000
DTEND;TZID=America/Chicago:20230925T200000
DTSTAMP:20260425T091159
CREATED:20230828T145201Z
LAST-MODIFIED:20230828T145201Z
UID:6333-1695664800-1695672000@spls.lib.ok.us
SUMMARY:Watercolor @ 6 p.m.
DESCRIPTION:Classes are held at the Altus Public Library (421 N. Hudson) from 6 p.m.-8 p.m. Pre-registration and payment required. Registration closes 5 days before class begins. Class size is limited. \nRegister and make payment in person at the SAHC office\, 123 W. Commerce (NBC Bank Bldg.)\, Suite 230\, Tuesday-Thursday 9 a.m.-12 p.m.\, or by phone at 580-477-1616. Class fees are $35 per session. \nClasses are open to all experience levels and are for adults and students ages 16 years and older. \nFor more information\, please contact Shortgrass Arts & Humanities Council at 580-477-1616.
URL:https://spls.lib.ok.us/event/watercolor-6-p-m/
CATEGORIES:16 & up,Adults
END:VEVENT
BEGIN:VEVENT
DTSTART;TZID=America/Chicago:20230926T180000
DTEND;TZID=America/Chicago:20230926T200000
DTSTAMP:20260425T091159
CREATED:20230828T145245Z
LAST-MODIFIED:20230828T145245Z
UID:6335-1695751200-1695758400@spls.lib.ok.us
SUMMARY:Watercolor @ 6 p.m.
DESCRIPTION:Classes are held at the Altus Public Library (421 N. Hudson) from 6 p.m.-8 p.m. Pre-registration and payment required. Registration closes 5 days before class begins. Class size is limited. \nRegister and make payment in person at the SAHC office\, 123 W. Commerce (NBC Bank Bldg.)\, Suite 230\, Tuesday-Thursday 9 a.m.-12 p.m.\, or by phone at 580-477-1616. Class fees are $35 per session. \nClasses are open to all experience levels and are for adults and students ages 16 years and older. \nFor more information\, please contact Shortgrass Arts & Humanities Council at 580-477-1616.
URL:https://spls.lib.ok.us/event/watercolor-6-p-m-2/
CATEGORIES:16 & up,Adults
END:VEVENT
BEGIN:VEVENT
DTSTART;TZID=America/Chicago:20230927T130000
DTEND;TZID=America/Chicago:20230927T140000
DTSTAMP:20260425T091159
CREATED:20230828T143848Z
LAST-MODIFIED:20230828T143848Z
UID:6317-1695819600-1695823200@spls.lib.ok.us
SUMMARY:Tai Chi @ 1 p.m. w/ Megan Monteith
DESCRIPTION:The class is limited to 20 participants. Please call the Altus Public Library @ 580-477-2890 to reserve your spot.
URL:https://spls.lib.ok.us/event/tai-chi-1-p-m-w-megan-monteith-4/
CATEGORIES:Adults,Literacy Event
END:VEVENT
BEGIN:VEVENT
DTSTART;TZID=America/Chicago:20230927T180000
DTEND;TZID=America/Chicago:20230927T200000
DTSTAMP:20260425T091159
CREATED:20230828T145331Z
LAST-MODIFIED:20230828T145331Z
UID:6337-1695837600-1695844800@spls.lib.ok.us
SUMMARY:Watercolor @ 6 p.m.
DESCRIPTION:Classes are held at the Altus Public Library (421 N. Hudson) from 6 p.m.-8 p.m. Pre-registration and payment required. Registration closes 5 days before class begins. Class size is limited. \nRegister and make payment in person at the SAHC office\, 123 W. Commerce (NBC Bank Bldg.)\, Suite 230\, Tuesday-Thursday 9 a.m.-12 p.m.\, or by phone at 580-477-1616. Class fees are $35 per session. \nClasses are open to all experience levels and are for adults and students ages 16 years and older. \nFor more information\, please contact Shortgrass Arts & Humanities Council at 580-477-1616.
URL:https://spls.lib.ok.us/event/watercolor-6-p-m-3/
CATEGORIES:16 & up,Adults
END:VEVENT
BEGIN:VEVENT
DTSTART;TZID=America/Chicago:20230928T180000
DTEND;TZID=America/Chicago:20230928T200000
DTSTAMP:20260425T091159
CREATED:20230828T145551Z
LAST-MODIFIED:20230828T145551Z
UID:6339-1695924000-1695931200@spls.lib.ok.us
SUMMARY:Watercolor @ 6 p.m.
DESCRIPTION:Classes are held at the Altus Public Library (421 N. Hudson) from 6 p.m.-8 p.m. Pre-registration and payment required. Registration closes 5 days before class begins. Class size is limited. \nRegister and make payment in person at the SAHC office\, 123 W. Commerce (NBC Bank Bldg.)\, Suite 230\, Tuesday-Thursday 9 a.m.-12 p.m.\, or by phone at 580-477-1616. Class fees are $35 per session. \nClasses are open to all experience levels and are for adults and students ages 16 years and older. \nFor more information\, please contact Shortgrass Arts & Humanities Council at 580-477-1616.
URL:https://spls.lib.ok.us/event/watercolor-6-p-m-4/
CATEGORIES:16 & up,Adults
END:VEVENT
END:VCALENDAR