BEGIN:VCALENDAR
VERSION:2.0
PRODID:-//Southern Prairie Library - ECPv6.15.14//NONSGML v1.0//EN
CALSCALE:GREGORIAN
METHOD:PUBLISH
X-WR-CALNAME:Southern Prairie Library
X-ORIGINAL-URL:https://spls.lib.ok.us
X-WR-CALDESC:Events for Southern Prairie Library
REFRESH-INTERVAL;VALUE=DURATION:PT1H
X-Robots-Tag:noindex
X-PUBLISHED-TTL:PT1H
BEGIN:VTIMEZONE
TZID:America/Chicago
BEGIN:DAYLIGHT
TZOFFSETFROM:-0600
TZOFFSETTO:-0500
TZNAME:CDT
DTSTART:20250309T080000
END:DAYLIGHT
BEGIN:STANDARD
TZOFFSETFROM:-0500
TZOFFSETTO:-0600
TZNAME:CST
DTSTART:20251102T070000
END:STANDARD
BEGIN:DAYLIGHT
TZOFFSETFROM:-0600
TZOFFSETTO:-0500
TZNAME:CDT
DTSTART:20260308T080000
END:DAYLIGHT
BEGIN:STANDARD
TZOFFSETFROM:-0500
TZOFFSETTO:-0600
TZNAME:CST
DTSTART:20261101T070000
END:STANDARD
BEGIN:DAYLIGHT
TZOFFSETFROM:-0600
TZOFFSETTO:-0500
TZNAME:CDT
DTSTART:20270314T080000
END:DAYLIGHT
BEGIN:STANDARD
TZOFFSETFROM:-0500
TZOFFSETTO:-0600
TZNAME:CST
DTSTART:20271107T070000
END:STANDARD
END:VTIMEZONE
BEGIN:VEVENT
DTSTART;TZID=America/Chicago:20260302T110000
DTEND;TZID=America/Chicago:20260302T130000
DTSTAMP:20260420T171332
CREATED:20260303T184938Z
LAST-MODIFIED:20260303T184938Z
UID:9765-1772449200-1772456400@spls.lib.ok.us
SUMMARY:Silent Book Club @ 11 a.m.
DESCRIPTION:Looking for a quiet escape? \nJoin us for Silent Book Club at Altus Public Library!\nMonday\, March 2\n11:00 AM – 1 PM \nBring your current read\, something from your TBR pile\, or pick out a book from our shelves. Then settle in and enjoy two uninterrupted hours of reading time in a cozy\, welcoming space. \nNo assigned reading.\nNo pressure.\nNo awkward discussions. \nJust books and blissful quiet.\nAltus Public Library – 421 N Hudson\n(580) 477-2890 \nCome read with us!
URL:https://spls.lib.ok.us/event/silent-book-club-11-a-m-6/
CATEGORIES:Adults
END:VEVENT
END:VCALENDAR