BEGIN:VCALENDAR
VERSION:2.0
PRODID:-//Southern Prairie Library - ECPv6.15.14//NONSGML v1.0//EN
CALSCALE:GREGORIAN
METHOD:PUBLISH
X-ORIGINAL-URL:https://spls.lib.ok.us
X-WR-CALDESC:Events for Southern Prairie Library
REFRESH-INTERVAL;VALUE=DURATION:PT1H
X-Robots-Tag:noindex
X-PUBLISHED-TTL:PT1H
BEGIN:VTIMEZONE
TZID:America/Chicago
BEGIN:DAYLIGHT
TZOFFSETFROM:-0600
TZOFFSETTO:-0500
TZNAME:CDT
DTSTART:20240310T080000
END:DAYLIGHT
BEGIN:STANDARD
TZOFFSETFROM:-0500
TZOFFSETTO:-0600
TZNAME:CST
DTSTART:20241103T070000
END:STANDARD
BEGIN:DAYLIGHT
TZOFFSETFROM:-0600
TZOFFSETTO:-0500
TZNAME:CDT
DTSTART:20250309T080000
END:DAYLIGHT
BEGIN:STANDARD
TZOFFSETFROM:-0500
TZOFFSETTO:-0600
TZNAME:CST
DTSTART:20251102T070000
END:STANDARD
BEGIN:DAYLIGHT
TZOFFSETFROM:-0600
TZOFFSETTO:-0500
TZNAME:CDT
DTSTART:20260308T080000
END:DAYLIGHT
BEGIN:STANDARD
TZOFFSETFROM:-0500
TZOFFSETTO:-0600
TZNAME:CST
DTSTART:20261101T070000
END:STANDARD
END:VTIMEZONE
BEGIN:VEVENT
DTSTART;TZID=America/Chicago:20250624T080000
DTEND;TZID=America/Chicago:20250624T170000
DTSTAMP:20260419T183106
CREATED:20250605T160323Z
LAST-MODIFIED:20250605T160323Z
UID:8821-1750752000-1750784400@spls.lib.ok.us
SUMMARY:Tween Tuesday @ 2 p.m.
DESCRIPTION:Calling all tweens ages 12 & up! \nTween Tuesday presents: Popped Bubble Art! \n\n\nUsing a mixture of bubble mix and food coloring\, tweens will get to paint and blow bubbles to create their own art!
URL:https://spls.lib.ok.us/event/tween-tuesday-2-p-m-3/
CATEGORIES:Family
END:VEVENT
BEGIN:VEVENT
DTSTART;TZID=America/Chicago:20250624T110000
DTEND;TZID=America/Chicago:20250624T120000
DTSTAMP:20260419T183106
CREATED:20250605T145213Z
LAST-MODIFIED:20250605T145213Z
UID:8784-1750762800-1750766400@spls.lib.ok.us
SUMMARY:Chair Yoga @ 11 a.m.
DESCRIPTION:Chair Yoga is taught by licensed instructor Erin Martinez. \nThis free event is held every Tuesday and Thursday from 11 a.m. to 11:45 a.m. at the Altus Public Library. \nYou will learn safe and easy exercises to keep your muscles and joints strong as well as tips on proper breathing. \nFor more information\, or to sign up\, call the Altus Public Library at 580-477-2890.
URL:https://spls.lib.ok.us/event/chair-yoga-11-a-m-66/
CATEGORIES:Adults,Literacy Event
END:VEVENT
BEGIN:VEVENT
DTSTART;TZID=America/Chicago:20250624T180000
DTEND;TZID=America/Chicago:20250624T200000
DTSTAMP:20260419T183106
CREATED:20250605T162925Z
LAST-MODIFIED:20250605T163028Z
UID:8841-1750788000-1750795200@spls.lib.ok.us
SUMMARY:Mosaics @ 6 p.m.
DESCRIPTION:Classes are held at the Altus Public Library (421 N. Hudson) from 6 p.m.-8 p.m. Pre-registration and payment required. Registration closes 5 days before class begins. Class size is limited. \nRegister and make payment in person at the Altus Public Library\, 421 N. Hudson\, or register by phone at 580-477-2890. Class fees are $35 per session. \nClasses are open to all experience levels and are for adults and students ages 16 years and older. \nFor more information\, please contact the Altus Public Library at 580-477-2890.
URL:https://spls.lib.ok.us/event/mosaics-6-p-m-2/
CATEGORIES:16 & up,Adults
END:VEVENT
END:VCALENDAR