BEGIN:VCALENDAR
VERSION:2.0
PRODID:-//Southern Prairie Library - ECPv6.15.14//NONSGML v1.0//EN
CALSCALE:GREGORIAN
METHOD:PUBLISH
X-ORIGINAL-URL:https://spls.lib.ok.us
X-WR-CALDESC:Events for Southern Prairie Library
REFRESH-INTERVAL;VALUE=DURATION:PT1H
X-Robots-Tag:noindex
X-PUBLISHED-TTL:PT1H
BEGIN:VTIMEZONE
TZID:America/Chicago
BEGIN:DAYLIGHT
TZOFFSETFROM:-0600
TZOFFSETTO:-0500
TZNAME:CDT
DTSTART:20250309T080000
END:DAYLIGHT
BEGIN:STANDARD
TZOFFSETFROM:-0500
TZOFFSETTO:-0600
TZNAME:CST
DTSTART:20251102T070000
END:STANDARD
BEGIN:DAYLIGHT
TZOFFSETFROM:-0600
TZOFFSETTO:-0500
TZNAME:CDT
DTSTART:20260308T080000
END:DAYLIGHT
BEGIN:STANDARD
TZOFFSETFROM:-0500
TZOFFSETTO:-0600
TZNAME:CST
DTSTART:20261101T070000
END:STANDARD
BEGIN:DAYLIGHT
TZOFFSETFROM:-0600
TZOFFSETTO:-0500
TZNAME:CDT
DTSTART:20270314T080000
END:DAYLIGHT
BEGIN:STANDARD
TZOFFSETFROM:-0500
TZOFFSETTO:-0600
TZNAME:CST
DTSTART:20271107T070000
END:STANDARD
END:VTIMEZONE
BEGIN:VEVENT
DTSTART;TZID=America/Chicago:20260318T110000
DTEND;TZID=America/Chicago:20260318T120000
DTSTAMP:20260419T120341
CREATED:20260303T184445Z
LAST-MODIFIED:20260303T184445Z
UID:9736-1773831600-1773835200@spls.lib.ok.us
SUMMARY:Story Time & Craft @ 11 a.m.
DESCRIPTION:March Story Time is in Bloom at Altus Public Library!\n\nJoin us on Wednesdays and the third Tuesday of the month at 11 AM for Story Time — perfect for ages Pre-K & up! Each week brings a new theme\, fun stories\, and a hands-on craft your little one will love.\n\nHere’s what we have planned for March 2026:\nMarch 4 – Flowers | Craft: Flower Dot Marker Activity\nMarch 11 – Space | Craft: Stickers… IN SPACE!!!\nMarch 18– Building | Craft: Blocks…All the Blocks\nMarch 24 – Bilingual Story Time: Spring | Craft: Frogs \nWe can’t wait to read\, create\, and explore with you this month! \nAltus Public Library\n421 N. Hudson St.\n(580) 477-2890
URL:https://spls.lib.ok.us/event/story-time-craft-11-a-m-43/2026-03-18/
CATEGORIES:Family,Infants & Toddlers up to age 5
END:VEVENT
BEGIN:VEVENT
DTSTART;TZID=America/Chicago:20260311T110000
DTEND;TZID=America/Chicago:20260311T120000
DTSTAMP:20260419T120341
CREATED:20260303T184445Z
LAST-MODIFIED:20260303T184445Z
UID:9735-1773226800-1773230400@spls.lib.ok.us
SUMMARY:Story Time & Craft @ 11 a.m.
DESCRIPTION:March Story Time is in Bloom at Altus Public Library!\n\nJoin us on Wednesdays and the third Tuesday of the month at 11 AM for Story Time — perfect for ages Pre-K & up! Each week brings a new theme\, fun stories\, and a hands-on craft your little one will love.\n\nHere’s what we have planned for March 2026:\nMarch 4 – Flowers | Craft: Flower Dot Marker Activity\nMarch 11 – Space | Craft: Stickers… IN SPACE!!!\nMarch 18– Building | Craft: Blocks…All the Blocks\nMarch 24 – Bilingual Story Time: Spring | Craft: Frogs \nWe can’t wait to read\, create\, and explore with you this month! \nAltus Public Library\n421 N. Hudson St.\n(580) 477-2890
URL:https://spls.lib.ok.us/event/story-time-craft-11-a-m-43/2026-03-11/
CATEGORIES:Family,Infants & Toddlers up to age 5
END:VEVENT
BEGIN:VEVENT
DTSTART;TZID=America/Chicago:20260304T110000
DTEND;TZID=America/Chicago:20260304T120000
DTSTAMP:20260419T120341
CREATED:20260303T184445Z
LAST-MODIFIED:20260303T184445Z
UID:9734-1772622000-1772625600@spls.lib.ok.us
SUMMARY:Story Time & Craft @ 11 a.m.
DESCRIPTION:March Story Time is in Bloom at Altus Public Library!\n\nJoin us on Wednesdays and the third Tuesday of the month at 11 AM for Story Time — perfect for ages Pre-K & up! Each week brings a new theme\, fun stories\, and a hands-on craft your little one will love.\n\nHere’s what we have planned for March 2026:\nMarch 4 – Flowers | Craft: Flower Dot Marker Activity\nMarch 11 – Space | Craft: Stickers… IN SPACE!!!\nMarch 18– Building | Craft: Blocks…All the Blocks\nMarch 24 – Bilingual Story Time: Spring | Craft: Frogs \nWe can’t wait to read\, create\, and explore with you this month! \nAltus Public Library\n421 N. Hudson St.\n(580) 477-2890
URL:https://spls.lib.ok.us/event/story-time-craft-11-a-m-43/2026-03-04/
CATEGORIES:Family,Infants & Toddlers up to age 5
END:VEVENT
END:VCALENDAR