BEGIN:VCALENDAR
VERSION:2.0
PRODID:-//Southern Prairie Library - ECPv6.15.14//NONSGML v1.0//EN
CALSCALE:GREGORIAN
METHOD:PUBLISH
X-ORIGINAL-URL:https://spls.lib.ok.us
X-WR-CALDESC:Events for Southern Prairie Library
REFRESH-INTERVAL;VALUE=DURATION:PT1H
X-Robots-Tag:noindex
X-PUBLISHED-TTL:PT1H
BEGIN:VTIMEZONE
TZID:America/Chicago
BEGIN:DAYLIGHT
TZOFFSETFROM:-0600
TZOFFSETTO:-0500
TZNAME:CDT
DTSTART:20200308T080000
END:DAYLIGHT
BEGIN:STANDARD
TZOFFSETFROM:-0500
TZOFFSETTO:-0600
TZNAME:CST
DTSTART:20201101T070000
END:STANDARD
BEGIN:DAYLIGHT
TZOFFSETFROM:-0600
TZOFFSETTO:-0500
TZNAME:CDT
DTSTART:20210314T080000
END:DAYLIGHT
BEGIN:STANDARD
TZOFFSETFROM:-0500
TZOFFSETTO:-0600
TZNAME:CST
DTSTART:20211107T070000
END:STANDARD
BEGIN:DAYLIGHT
TZOFFSETFROM:-0600
TZOFFSETTO:-0500
TZNAME:CDT
DTSTART:20220313T080000
END:DAYLIGHT
BEGIN:STANDARD
TZOFFSETFROM:-0500
TZOFFSETTO:-0600
TZNAME:CST
DTSTART:20221106T070000
END:STANDARD
END:VTIMEZONE
BEGIN:VEVENT
DTSTART;TZID=America/Chicago:20211103T100000
DTEND;TZID=America/Chicago:20211103T103000
DTSTAMP:20260421T141102
CREATED:20211130T210213Z
LAST-MODIFIED:20220518T183157Z
UID:3828-1635933600-1635935400@spls.lib.ok.us
SUMMARY:STEAM Pre-K thru 3rd grade @ 9 am
DESCRIPTION:Did you know that kids who are not in school use STEM?\nStacking blocks\, matching colors of different toys or cups\, sorting items by shape\,or maybe playing outside to discover new things around them.\n\nSTEM stand for science\, technology\, engineering\, and math. The activities are geared for the Preschoolers thru 3rd graders. STEM programs expose students to “big picture” concepts seen in the real\, physical environment. The hands-on approach that STEM education encourages can also benefit even individuals who don’t end up with careers in a STEM field since it emphasizes creativity\, problem-solving skills\, and critical thinking.
URL:https://spls.lib.ok.us/event/steam-pre-k-thru-3rd-grade-10am/2021-11-03/
CATEGORIES:Infants & Toddlers up to age 5
END:VEVENT
END:VCALENDAR